BEGIN:VCALENDAR
VERSION:1.0
BEGIN:VEVENT
DTSTART:20250606T103000
DTEND:20250606T120000
SUMMARY:Pheonix Tube 55's vs. Generational Softball
DESCRIPTION:Men 55 Major - International Senior Softball Association<br>ISSA
LOCATION:KCS 4
CATEGORIES:QuickScores; Softball Game
TRANSP:0
DALARM:20250606T083000;PT10M;2;Pheonix Tube 55's vs. Generational Softball
END:VEVENT
BEGIN:VEVENT
DTSTART:20250606T150000
DTEND:20250606T163000
SUMMARY:Generational Softball vs. Gashouse
DESCRIPTION:Men 55 Major - International Senior Softball Association<br>ISSA
LOCATION:KCS 1
CATEGORIES:QuickScores; Softball Game
TRANSP:0
DALARM:20250606T130000;PT10M;2;Generational Softball vs. Gashouse
END:VEVENT
BEGIN:VEVENT
DTSTART:20250608T090000
DTEND:20250608T103000
SUMMARY:[B2] Generational Softball vs. [E2] Tri State Legends
DESCRIPTION:Men 55 Major - International Senior Softball Association<br>ISSA
LOCATION:CP-K 4
CATEGORIES:QuickScores; Softball Game
TRANSP:0
DALARM:20250608T070000;PT10M;2;[B2] Generational Softball vs. [E2] Tri State Legends
END:VEVENT
BEGIN:VEVENT
DTSTART:20250608T133000
DTEND:20250608T150000
SUMMARY:[B1] Pheonix Tube 55's vs. [B2] Generational Softball
DESCRIPTION:Men 55 Major - International Senior Softball Association<br>ISSA
LOCATION:CP-K 2
CATEGORIES:QuickScores; Softball Game
TRANSP:0
DALARM:20250608T113000;PT10M;2;[B1] Pheonix Tube 55's vs. [B2] Generational Softball
END:VEVENT
END:VCALENDAR
