BEGIN:VCALENDAR
VERSION:1.0
BEGIN:VEVENT
DTSTART:20250606T133000
DTEND:20250606T150000
SUMMARY:Gashouse vs. Pheonix Tube 55's
DESCRIPTION:Men 55 Major - International Senior Softball Association<br>ISSA
LOCATION:KCS 1
CATEGORIES:QuickScores; Softball Game
TRANSP:0
DALARM:20250606T113000;PT10M;2;Gashouse vs. Pheonix Tube 55's
END:VEVENT
BEGIN:VEVENT
DTSTART:20250606T150000
DTEND:20250606T163000
SUMMARY:Generational Softball vs. Gashouse
DESCRIPTION:Men 55 Major - International Senior Softball Association<br>ISSA
LOCATION:KCS 1
CATEGORIES:QuickScores; Softball Game
TRANSP:0
DALARM:20250606T130000;PT10M;2;Generational Softball vs. Gashouse
END:VEVENT
BEGIN:VEVENT
DTSTART:20250608T090000
DTEND:20250608T103000
SUMMARY:[E1] Escobar Body Shop/ Spartan Bat Co vs. [B3] Gashouse
DESCRIPTION:Men 55 Major - International Senior Softball Association<br>ISSA
LOCATION:CP-K 2
CATEGORIES:QuickScores; Softball Game
TRANSP:0
DALARM:20250608T070000;PT10M;2;[E1] Escobar Body Shop/ Spartan Bat Co vs. [B3] Gashouse
END:VEVENT
END:VCALENDAR
