BEGIN:VCALENDAR
VERSION:1.0
BEGIN:VEVENT
DTSTART:20250606T103000
DTEND:20250606T120000
SUMMARY:Demolition Illinois vs. CPS/BSBS Softball
DESCRIPTION:Men 50 Major - International Senior Softball Association<br>ISSA
LOCATION:CP-K 3
CATEGORIES:QuickScores; Softball Game
TRANSP:0
DALARM:20250606T083000;PT10M;2;Demolition Illinois vs. CPS/BSBS Softball
END:VEVENT
BEGIN:VEVENT
DTSTART:20250606T150000
DTEND:20250606T163000
SUMMARY:CPS/BSBS Softball vs. Cole Insurance/Dugout
DESCRIPTION:Men 50 Major - International Senior Softball Association<br>ISSA
LOCATION:CP-K 2
CATEGORIES:QuickScores; Softball Game
TRANSP:0
DALARM:20250606T130000;PT10M;2;CPS/BSBS Softball vs. Cole Insurance/Dugout
END:VEVENT
BEGIN:VEVENT
DTSTART:20250607T100000
DTEND:20250607T110000
SUMMARY:[B1] CPS/BSBS Softball vs. [A3] 22ADAY/DL/Hudson/Ghost
DESCRIPTION:Men 50 Major - International Senior Softball Association<br>ISSA
LOCATION:CP-K 2
CATEGORIES:QuickScores; Softball Game
TRANSP:0
DALARM:20250607T080000;PT10M;2;[B1] CPS/BSBS Softball vs. [A3] 22ADAY/DL/Hudson/Ghost
END:VEVENT
BEGIN:VEVENT
DTSTART:20250607T123000
DTEND:20250607T140000
SUMMARY:[B1] CPS/BSBS Softball vs. [B2] Demolition Illinois
DESCRIPTION:Men 50 Major - International Senior Softball Association<br>ISSA
LOCATION:CP-K 3
CATEGORIES:QuickScores; Softball Game
TRANSP:0
DALARM:20250607T103000;PT10M;2;[B1] CPS/BSBS Softball vs. [B2] Demolition Illinois
END:VEVENT
END:VCALENDAR
