BEGIN:VCALENDAR
VERSION:1.0
BEGIN:VEVENT
DTSTART:20250603T103000
DTEND:20250603T120000
SUMMARY:Holy City Hitmen 65 vs. Claremont Property Co.
DESCRIPTION:Men 65 AAA - International Senior Softball Association<br>ISSA
LOCATION:ARP 3
CATEGORIES:QuickScores; Softball Game
TRANSP:0
DALARM:20250603T083000;PT10M;2;Holy City Hitmen 65 vs. Claremont Property Co.
END:VEVENT
BEGIN:VEVENT
DTSTART:20250603T120000
DTEND:20250603T133000
SUMMARY:Bama Boys vs. Holy City Hitmen 65
DESCRIPTION:Men 65 AAA - International Senior Softball Association<br>ISSA
LOCATION:ARP 3
CATEGORIES:QuickScores; Softball Game
TRANSP:0
DALARM:20250603T100000;PT10M;2;Bama Boys vs. Holy City Hitmen 65
END:VEVENT
BEGIN:VEVENT
DTSTART:20250604T090000
DTEND:20250604T103000
SUMMARY:[B2] Holy City Hitmen 65 vs. [A2] GAS
DESCRIPTION:Men 65 AAA - International Senior Softball Association<br>ISSA
LOCATION:ARP 2
CATEGORIES:QuickScores; Softball Game
TRANSP:0
DALARM:20250604T070000;PT10M;2;[B2] Holy City Hitmen 65 vs. [A2] GAS
END:VEVENT
BEGIN:VEVENT
DTSTART:20250604T133000
DTEND:20250604T150000
SUMMARY:[B1] Vecter Scorpions vs. [B2] Holy City Hitmen 65
DESCRIPTION:Men 65 AAA - International Senior Softball Association<br>ISSA
LOCATION:ARP 3
CATEGORIES:QuickScores; Softball Game
TRANSP:0
DALARM:20250604T113000;PT10M;2;[B1] Vecter Scorpions vs. [B2] Holy City Hitmen 65
END:VEVENT
BEGIN:VEVENT
DTSTART:20250604T163000
DTEND:20250604T180000
SUMMARY:[B2] Holy City Hitmen 65 vs. [B3] Bama Boys
DESCRIPTION:Men 65 AAA - International Senior Softball Association<br>ISSA
LOCATION:ARP 3
CATEGORIES:QuickScores; Softball Game
TRANSP:0
DALARM:20250604T143000;PT10M;2;[B2] Holy City Hitmen 65 vs. [B3] Bama Boys
END:VEVENT
BEGIN:VEVENT
DTSTART:20250605T090000
DTEND:20250605T103000
SUMMARY:[B2] Holy City Hitmen 65 vs. [C1] Steel Town 65
DESCRIPTION:Men 65 AAA - International Senior Softball Association<br>ISSA
LOCATION:ARP 2
CATEGORIES:QuickScores; Softball Game
TRANSP:0
DALARM:20250605T070000;PT10M;2;[B2] Holy City Hitmen 65 vs. [C1] Steel Town 65
END:VEVENT
BEGIN:VEVENT
DTSTART:20250605T103000
DTEND:20250605T120000
SUMMARY:[B1] Vecter Scorpions vs. [B2] Holy City Hitmen 65
DESCRIPTION:Men 65 AAA - International Senior Softball Association<br>ISSA
LOCATION:ARP 2
CATEGORIES:QuickScores; Softball Game
TRANSP:0
DALARM:20250605T083000;PT10M;2;[B1] Vecter Scorpions vs. [B2] Holy City Hitmen 65
END:VEVENT
BEGIN:VEVENT
DTSTART:20250605T120000
DTEND:20250605T133000
SUMMARY:[A1] Brann's Steakhouse vs. [B2] Holy City Hitmen 65
DESCRIPTION:Men 65 AAA - International Senior Softball Association<br>ISSA
LOCATION:ARP 2
CATEGORIES:QuickScores; Softball Game
TRANSP:0
DALARM:20250605T100000;PT10M;2;[A1] Brann's Steakhouse vs. [B2] Holy City Hitmen 65
END:VEVENT
BEGIN:VEVENT
DTSTART:20250605T133000
DTEND:20250605T150000
SUMMARY:[B2] Holy City Hitmen 65 vs. [A1] Brann's Steakhouse
DESCRIPTION:Men 65 AAA - International Senior Softball Association<br>ISSA
LOCATION:ARP 2
CATEGORIES:QuickScores; Softball Game
TRANSP:0
DALARM:20250605T113000;PT10M;2;[B2] Holy City Hitmen 65 vs. [A1] Brann's Steakhouse
END:VEVENT
END:VCALENDAR
