BEGIN:VCALENDAR
VERSION:1.0
BEGIN:VEVENT
DTSTART:20250530T180000
DTEND:20250530T193000
SUMMARY:DerbyTown Softball vs. 3VETS Heating and Cooling/Magical Travel Associate
DESCRIPTION:Men 50 AA - International Senior Softball Association<br>ISSA
LOCATION:ARP 4
CATEGORIES:QuickScores; Softball Game
TRANSP:0
DALARM:20250530T160000;PT10M;2;DerbyTown Softball vs. 3VETS Heating and Cooling/Magical Travel Associate
END:VEVENT
BEGIN:VEVENT
DTSTART:20250530T193000
DTEND:20250530T210000
SUMMARY:3VETS Heating and Cooling/Magical Travel Associate vs. Heroes Athletics Hurricanes
DESCRIPTION:Men 50 AA - International Senior Softball Association<br>ISSA
LOCATION:ARP 4
CATEGORIES:QuickScores; Softball Game
TRANSP:0
DALARM:20250530T173000;PT10M;2;3VETS Heating and Cooling/Magical Travel Associate vs. Heroes Athletics Hurricanes
END:VEVENT
BEGIN:VEVENT
DTSTART:20250531T113000
DTEND:20250531T130000
SUMMARY:[2] 3VETS Heating and Cooling/Magical Travel Assoc vs. [3] City Chevrolet Stingrays
DESCRIPTION:Men 50 AA - International Senior Softball Association<br>ISSA
LOCATION:ARP 4
CATEGORIES:QuickScores; Softball Game
TRANSP:0
DALARM:20250531T093000;PT10M;2;[2] 3VETS Heating and Cooling/Magical Travel Assoc vs. [3] City Chevrolet Stingrays
END:VEVENT
BEGIN:VEVENT
DTSTART:20250531T160000
DTEND:20250531T173000
SUMMARY:[1] Central Florida Vipers vs. [2] 3VETS Heating and Cooling/Magical Travel Assoc
DESCRIPTION:Men 50 AA - International Senior Softball Association<br>ISSA
LOCATION:ARP 4
CATEGORIES:QuickScores; Softball Game
TRANSP:0
DALARM:20250531T140000;PT10M;2;[1] Central Florida Vipers vs. [2] 3VETS Heating and Cooling/Magical Travel Assoc
END:VEVENT
BEGIN:VEVENT
DTSTART:20250601T103000
DTEND:20250601T120000
SUMMARY:[2] 3VETS Heating and Cooling/Magical Travel Assoc vs. [4] Heroes Athletics Hurricanes
DESCRIPTION:Men 50 AA - International Senior Softball Association<br>ISSA
LOCATION:ARP 2
CATEGORIES:QuickScores; Softball Game
TRANSP:0
DALARM:20250601T083000;PT10M;2;[2] 3VETS Heating and Cooling/Magical Travel Assoc vs. [4] Heroes Athletics Hurricanes
END:VEVENT
END:VCALENDAR
