BEGIN:VCALENDAR
VERSION:1.0
BEGIN:VEVENT
DTSTART:20250430T133000
DTEND:20250430T150000
SUMMARY:Blaze Air vs. High Street Bucs 75
DESCRIPTION:Men 70 Major/Major Gold/75 Major Gold - International Senior Softball Association<br>ISSA
LOCATION:FLP 1
CATEGORIES:QuickScores; Softball Game
TRANSP:0
DALARM:20250430T113000;PT10M;2;Blaze Air vs. High Street Bucs 75
END:VEVENT
BEGIN:VEVENT
DTSTART:20250430T150000
DTEND:20250430T163000
SUMMARY:High Street Bucs 75 vs. Steele Creek
DESCRIPTION:Men 70 Major/Major Gold/75 Major Gold - International Senior Softball Association<br>ISSA
LOCATION:FLP 1
CATEGORIES:QuickScores; Softball Game
TRANSP:0
DALARM:20250430T130000;PT10M;2;High Street Bucs 75 vs. Steele Creek
END:VEVENT
END:VCALENDAR
