BEGIN:VCALENDAR
VERSION:1.0
BEGIN:VEVENT
DTSTART:20250430T133000
DTEND:20250430T150000
SUMMARY:Realty Check/New Life Building Supplies vs. RPR Softball
DESCRIPTION:Men 70 Major/Major Gold/75 Major Gold - International Senior Softball Association<br>ISSA
LOCATION:FLP 2
CATEGORIES:QuickScores; Softball Game
TRANSP:0
DALARM:20250430T113000;PT10M;2;Realty Check/New Life Building Supplies vs. RPR Softball
END:VEVENT
BEGIN:VEVENT
DTSTART:20250430T150000
DTEND:20250430T163000
SUMMARY:RPR Softball vs. SDA 70
DESCRIPTION:Men 70 Major/Major Gold/75 Major Gold - International Senior Softball Association<br>ISSA
LOCATION:FLP 2
CATEGORIES:QuickScores; Softball Game
TRANSP:0
DALARM:20250430T130000;PT10M;2;RPR Softball vs. SDA 70
END:VEVENT
END:VCALENDAR
