BEGIN:VCALENDAR
VERSION:1.0
BEGIN:VEVENT
DTSTART:20250502T163000
DTEND:20250502T180000
SUMMARY:River City Thunder vs. Turn 2. Electric
DESCRIPTION:Men 60 AAA - International Senior Softball Association<br>ISSA
LOCATION:BP 1
CATEGORIES:QuickScores; Softball Game
TRANSP:0
DALARM:20250502T143000;PT10M;2;River City Thunder vs. Turn 2. Electric
END:VEVENT
BEGIN:VEVENT
DTSTART:20250502T180000
DTEND:20250502T193000
SUMMARY:Turn 2. Electric vs. NC Slow Ballers
DESCRIPTION:Men 60 AAA - International Senior Softball Association<br>ISSA
LOCATION:BP 1
CATEGORIES:QuickScores; Softball Game
TRANSP:0
DALARM:20250502T160000;PT10M;2;Turn 2. Electric vs. NC Slow Ballers
END:VEVENT
BEGIN:VEVENT
DTSTART:20250503T083000
DTEND:20250503T100000
SUMMARY:[B2] Turn 2. Electric vs. [A3] Mobley Brothers Roofing
DESCRIPTION:Men 60 AAA - International Senior Softball Association<br>ISSA
LOCATION:BP 1
CATEGORIES:QuickScores; Softball Game
TRANSP:0
DALARM:20250503T063000;PT10M;2;[B2] Turn 2. Electric vs. [A3] Mobley Brothers Roofing
END:VEVENT
BEGIN:VEVENT
DTSTART:20250503T100000
DTEND:20250503T113000
SUMMARY:[A1] Patriots vs. [B2] Turn 2. Electric
DESCRIPTION:Men 60 AAA - International Senior Softball Association<br>ISSA
LOCATION:BP 1
CATEGORIES:QuickScores; Softball Game
TRANSP:0
DALARM:20250503T080000;PT10M;2;[A1] Patriots vs. [B2] Turn 2. Electric
END:VEVENT
BEGIN:VEVENT
DTSTART:20250503T143000
DTEND:20250503T160000
SUMMARY:[B2] Turn 2. Electric vs. [B3] NC Slow Ballers
DESCRIPTION:Men 60 AAA - International Senior Softball Association<br>ISSA
LOCATION:BP 1
CATEGORIES:QuickScores; Softball Game
TRANSP:0
DALARM:20250503T123000;PT10M;2;[B2] Turn 2. Electric vs. [B3] NC Slow Ballers
END:VEVENT
BEGIN:VEVENT
DTSTART:20250503T160000
DTEND:20250503T173000
SUMMARY:[A3] Mobley Brothers Roofing vs. [B2] Turn 2. Electric
DESCRIPTION:Men 60 AAA - International Senior Softball Association<br>ISSA
LOCATION:BP 1
CATEGORIES:QuickScores; Softball Game
TRANSP:0
DALARM:20250503T140000;PT10M;2;[A3] Mobley Brothers Roofing vs. [B2] Turn 2. Electric
END:VEVENT
BEGIN:VEVENT
DTSTART:20250504T090000
DTEND:20250504T103000
SUMMARY:[A1] Patriots vs. [B2] Turn 2. Electric
DESCRIPTION:Men 60 AAA - International Senior Softball Association<br>ISSA
LOCATION:BP 1
CATEGORIES:QuickScores; Softball Game
TRANSP:0
DALARM:20250504T070000;PT10M;2;[A1] Patriots vs. [B2] Turn 2. Electric
END:VEVENT
END:VCALENDAR
