BEGIN:VCALENDAR
VERSION:1.0
BEGIN:VEVENT
DTSTART:20250502T150000
DTEND:20250502T163000
SUMMARY:NC Slow Ballers vs. River City Thunder
DESCRIPTION:Men 60 AAA - International Senior Softball Association<br>ISSA
LOCATION:BP 2
CATEGORIES:QuickScores; Softball Game
TRANSP:0
DALARM:20250502T130000;PT10M;2;NC Slow Ballers vs. River City Thunder
END:VEVENT
BEGIN:VEVENT
DTSTART:20250502T163000
DTEND:20250502T180000
SUMMARY:River City Thunder vs. Turn 2. Electric
DESCRIPTION:Men 60 AAA - International Senior Softball Association<br>ISSA
LOCATION:BP 1
CATEGORIES:QuickScores; Softball Game
TRANSP:0
DALARM:20250502T143000;PT10M;2;River City Thunder vs. Turn 2. Electric
END:VEVENT
BEGIN:VEVENT
DTSTART:20250503T100000
DTEND:20250503T113000
SUMMARY:[B1] River City Thunder vs. [A2] Va Journeymen
DESCRIPTION:Men 60 AAA - International Senior Softball Association<br>ISSA
LOCATION:BP 2
CATEGORIES:QuickScores; Softball Game
TRANSP:0
DALARM:20250503T080000;PT10M;2;[B1] River City Thunder vs. [A2] Va Journeymen
END:VEVENT
BEGIN:VEVENT
DTSTART:20250503T143000
DTEND:20250503T160000
SUMMARY:[A1] Patriots vs. [B1] River City Thunder
DESCRIPTION:Men 60 AAA - International Senior Softball Association<br>ISSA
LOCATION:BP 2
CATEGORIES:QuickScores; Softball Game
TRANSP:0
DALARM:20250503T123000;PT10M;2;[A1] Patriots vs. [B1] River City Thunder
END:VEVENT
BEGIN:VEVENT
DTSTART:20250504T103000
DTEND:20250504T120000
SUMMARY:[B1] River City Thunder vs. Winner of Game 9
DESCRIPTION:Men 60 AAA - International Senior Softball Association<br>ISSA
LOCATION:BP 1
CATEGORIES:QuickScores; Softball Game
TRANSP:0
DALARM:20250504T083000;PT10M;2;[B1] River City Thunder vs. Winner of Game 9
END:VEVENT
END:VCALENDAR
