BEGIN:VCALENDAR
VERSION:1.0
BEGIN:VEVENT
DTSTART:20250128T103000
DTEND:20250128T120000
SUMMARY:Northern Virginia Force 65s vs. JERSEY BOYS
DESCRIPTION:Men 65 AAA - International Senior Softball Association<br>ISSA
LOCATION:OPSC 4
CATEGORIES:QuickScores; Softball Game
TRANSP:0
DALARM:20250128T083000;PT10M;2;Northern Virginia Force 65s vs. JERSEY BOYS
END:VEVENT
BEGIN:VEVENT
DTSTART:20250128T133000
DTEND:20250128T150000
SUMMARY:JERSEY BOYS vs. Myrtle Beach Coyotes
DESCRIPTION:Men 65 AAA - International Senior Softball Association<br>ISSA
LOCATION:OPSC 4
CATEGORIES:QuickScores; Softball Game
TRANSP:0
DALARM:20250128T113000;PT10M;2;JERSEY BOYS vs. Myrtle Beach Coyotes
END:VEVENT
BEGIN:VEVENT
DTSTART:20250129T100000
DTEND:20250129T113000
SUMMARY:[B1] JERSEY BOYS vs. Winner of Game 2
DESCRIPTION:Men 65 AAA - International Senior Softball Association<br>ISSA
LOCATION:OPSC 2
CATEGORIES:QuickScores; Softball Game
TRANSP:0
DALARM:20250129T080000;PT10M;2;[B1] JERSEY BOYS vs. Winner of Game 2
END:VEVENT
END:VCALENDAR
