BEGIN:VCALENDAR
VERSION:1.0
BEGIN:VEVENT
DTSTART:20250128T090000
DTEND:20250128T103000
SUMMARY:Great Lakes Tornadoes vs. GAS
DESCRIPTION:Men 65 AAA - International Senior Softball Association<br>ISSA
LOCATION:OPSC 2
CATEGORIES:QuickScores; Softball Game
TRANSP:0
DALARM:20250128T070000;PT10M;2;Great Lakes Tornadoes vs. GAS
END:VEVENT
BEGIN:VEVENT
DTSTART:20250128T103000
DTEND:20250128T120000
SUMMARY:Steel Town 65 vs. Great Lakes Tornadoes
DESCRIPTION:Men 65 AAA - International Senior Softball Association<br>ISSA
LOCATION:OPSC 2
CATEGORIES:QuickScores; Softball Game
TRANSP:0
DALARM:20250128T083000;PT10M;2;Steel Town 65 vs. Great Lakes Tornadoes
END:VEVENT
END:VCALENDAR
