BEGIN:VCALENDAR
VERSION:1.0
BEGIN:VEVENT
DTSTART:20250128T120000
DTEND:20250128T133000
SUMMARY:GAS vs. Claremont Property Co.
DESCRIPTION:Men 65 AAA - International Senior Softball Association<br>ISSA
LOCATION:OPSC 2
CATEGORIES:QuickScores; Softball Game
TRANSP:0
DALARM:20250128T100000;PT10M;2;GAS vs. Claremont Property Co.
END:VEVENT
BEGIN:VEVENT
DTSTART:20250128T133000
DTEND:20250128T150000
SUMMARY:Claremont Property Co. vs. Steel Town 65
DESCRIPTION:Men 65 AAA - International Senior Softball Association<br>ISSA
LOCATION:OPSC 2
CATEGORIES:QuickScores; Softball Game
TRANSP:0
DALARM:20250128T113000;PT10M;2;Claremont Property Co. vs. Steel Town 65
END:VEVENT
END:VCALENDAR
