BEGIN:VCALENDAR
VERSION:1.0
BEGIN:VEVENT
DTSTART:20250131T090000
DTEND:20250131T103000
SUMMARY:Infoquest.com vs. Backside
DESCRIPTION:Men 55 Major - International Senior Softball Association<br>ISSA
LOCATION:RSC 2
CATEGORIES:QuickScores; Softball Game
TRANSP:0
DALARM:20250131T070000;PT10M;2;Infoquest.com vs. Backside
END:VEVENT
BEGIN:VEVENT
DTSTART:20250131T103000
DTEND:20250131T120000
SUMMARY:Kincaid Sports vs. Infoquest.com
DESCRIPTION:Men 55 Major - International Senior Softball Association<br>ISSA
LOCATION:RSC 1
CATEGORIES:QuickScores; Softball Game
TRANSP:0
DALARM:20250131T083000;PT10M;2;Kincaid Sports vs. Infoquest.com
END:VEVENT
BEGIN:VEVENT
DTSTART:20250201T100000
DTEND:20250201T113000
SUMMARY:[B1] Infoquest.com vs. [A3] Generational Softball
DESCRIPTION:Men 55 Major - International Senior Softball Association<br>ISSA
LOCATION:RSC 3
CATEGORIES:QuickScores; Softball Game
TRANSP:0
DALARM:20250201T080000;PT10M;2;[B1] Infoquest.com vs. [A3] Generational Softball
END:VEVENT
BEGIN:VEVENT
DTSTART:20250201T143000
DTEND:20250201T160000
SUMMARY:[B1] Infoquest.com vs. [B2] Backside
DESCRIPTION:Men 55 Major - International Senior Softball Association<br>ISSA
LOCATION:RSC 5
CATEGORIES:QuickScores; Softball Game
TRANSP:0
DALARM:20250201T123000;PT10M;2;[B1] Infoquest.com vs. [B2] Backside
END:VEVENT
BEGIN:VEVENT
DTSTART:20250201T160000
DTEND:20250201T173000
SUMMARY:[A1] Supreme softball vs. [B1] Infoquest.com
DESCRIPTION:Men 55 Major - International Senior Softball Association<br>ISSA
LOCATION:RSC 5
CATEGORIES:QuickScores; Softball Game
TRANSP:0
DALARM:20250201T140000;PT10M;2;[A1] Supreme softball vs. [B1] Infoquest.com
END:VEVENT
BEGIN:VEVENT
DTSTART:20250202T113000
DTEND:20250202T130000
SUMMARY:[B1] Infoquest.com vs. [A1] Supreme softball
DESCRIPTION:Men 55 Major - International Senior Softball Association<br>ISSA
LOCATION:RSC 2
CATEGORIES:QuickScores; Softball Game
TRANSP:0
DALARM:20250202T093000;PT10M;2;[B1] Infoquest.com vs. [A1] Supreme softball
END:VEVENT
BEGIN:VEVENT
DTSTART:20250202T130000
DTEND:20250202T143000
SUMMARY:[A1] Supreme softball vs. [B1] Infoquest.com
DESCRIPTION:Men 55 Major - International Senior Softball Association<br>ISSA
LOCATION:RSC 2
CATEGORIES:QuickScores; Softball Game
TRANSP:0
DALARM:20250202T110000;PT10M;2;[A1] Supreme softball vs. [B1] Infoquest.com
END:VEVENT
END:VCALENDAR
