BEGIN:VCALENDAR
VERSION:1.0
BEGIN:VEVENT
DTSTART:20241101T100000
DTEND:20241101T113000
SUMMARY:Montgomery Swarm 60 vs. Demolition 60
DESCRIPTION:Men 60 Major/ Major Gold - International Senior Softball Association<br>ISSA
LOCATION:BSC-B3
CATEGORIES:QuickScores; Softball Game
TRANSP:0
DALARM:20241101T080000;PT10M;2;Montgomery Swarm 60 vs. Demolition 60
END:VEVENT
BEGIN:VEVENT
DTSTART:20241101T113000
DTEND:20241101T130000
SUMMARY:Demolition 60 vs. Isabel Heating and Cooling
DESCRIPTION:Men 60 Major/ Major Gold - International Senior Softball Association<br>ISSA
LOCATION:BSC-B3
CATEGORIES:QuickScores; Softball Game
TRANSP:0
DALARM:20241101T093000;PT10M;2;Demolition 60 vs. Isabel Heating and Cooling
END:VEVENT
END:VCALENDAR
