BEGIN:VCALENDAR
VERSION:1.0
BEGIN:VEVENT
DTSTART:20241101T100000
DTEND:20241101T113000
SUMMARY:Monster Softball vs. Top Dawgs
DESCRIPTION:Men 60 Major/ Major Gold - International Senior Softball Association<br>ISSA
LOCATION:BSC-B5
CATEGORIES:QuickScores; Softball Game
TRANSP:0
DALARM:20241101T080000;PT10M;2;Monster Softball vs. Top Dawgs
END:VEVENT
BEGIN:VEVENT
DTSTART:20241101T113000
DTEND:20241101T130000
SUMMARY:Monarchs/Miken/Elite 60M vs. Monster Softball
DESCRIPTION:Men 60 Major/ Major Gold - International Senior Softball Association<br>ISSA
LOCATION:BSC-B5
CATEGORIES:QuickScores; Softball Game
TRANSP:0
DALARM:20241101T093000;PT10M;2;Monarchs/Miken/Elite 60M vs. Monster Softball
END:VEVENT
END:VCALENDAR
