BEGIN:VCALENDAR
VERSION:1.0
BEGIN:VEVENT
DTSTART:20240821T103000
DTEND:20240821T120000
SUMMARY:Tennessee Senior Stars vs. Ohio Tri-Stars
DESCRIPTION:Women 80 AAA - International Senior Softball Association<br>ISSA
LOCATION:SSC 6
CATEGORIES:QuickScores; Softball Game
TRANSP:0
DALARM:20240821T083000;PT10M;2;Tennessee Senior Stars vs. Ohio Tri-Stars
END:VEVENT
BEGIN:VEVENT
DTSTART:20240821T120000
DTEND:20240821T133000
SUMMARY:Tennessee Senior Stars vs. Golden Girls 80's
DESCRIPTION:Women 80 AAA - International Senior Softball Association<br>ISSA
LOCATION:SSC 6
CATEGORIES:QuickScores; Softball Game
TRANSP:0
DALARM:20240821T100000;PT10M;2;Tennessee Senior Stars vs. Golden Girls 80's
END:VEVENT
BEGIN:VEVENT
DTSTART:20240822T083000
DTEND:20240822T100000
SUMMARY:Ohio Tri-Stars vs. Tennessee Senior Stars
DESCRIPTION:Women 80 AAA - International Senior Softball Association<br>ISSA
LOCATION:SSC 6
CATEGORIES:QuickScores; Softball Game
TRANSP:0
DALARM:20240822T063000;PT10M;2;Ohio Tri-Stars vs. Tennessee Senior Stars
END:VEVENT
BEGIN:VEVENT
DTSTART:20240822T100000
DTEND:20240822T113000
SUMMARY:Golden Girls 80's vs. Tennessee Senior Stars
DESCRIPTION:Women 80 AAA - International Senior Softball Association<br>ISSA
LOCATION:SSC 6
CATEGORIES:QuickScores; Softball Game
TRANSP:0
DALARM:20240822T080000;PT10M;2;Golden Girls 80's vs. Tennessee Senior Stars
END:VEVENT
BEGIN:VEVENT
DTSTART:20240823T080000
DTEND:20240823T093000
SUMMARY:[2] Tennessee Senior Stars vs. [3] Golden Girls 80's
DESCRIPTION:Women 80 AAA - International Senior Softball Association<br>ISSA
LOCATION:SSC 6
CATEGORIES:QuickScores; Softball Game
TRANSP:0
DALARM:20240823T060000;PT10M;2;[2] Tennessee Senior Stars vs. [3] Golden Girls 80's
END:VEVENT
BEGIN:VEVENT
DTSTART:20240823T093000
DTEND:20240823T110000
SUMMARY:[1] Ohio Tri-Stars vs. [2] Tennessee Senior Stars
DESCRIPTION:Women 80 AAA - International Senior Softball Association<br>ISSA
LOCATION:SSC 6
CATEGORIES:QuickScores; Softball Game
TRANSP:0
DALARM:20240823T073000;PT10M;2;[1] Ohio Tri-Stars vs. [2] Tennessee Senior Stars
END:VEVENT
END:VCALENDAR
