BEGIN:VCALENDAR
VERSION:1.0
BEGIN:VEVENT
DTSTART:20240810T130000
DTEND:20240810T143000
SUMMARY:Port City Classics vs. Aroogas/mvp
DESCRIPTION:Men 50/55 AAA - International Senior Softball Association<br>ISSA
LOCATION:DP 2
CATEGORIES:QuickScores; Softball Game
TRANSP:0
DALARM:20240810T110000;PT10M;2;Port City Classics vs. Aroogas/mvp
END:VEVENT
BEGIN:VEVENT
DTSTART:20240810T160000
DTEND:20240810T173000
SUMMARY:Aroogas/mvp vs. DC Grays
DESCRIPTION:Men 50/55 AAA - International Senior Softball Association<br>ISSA
LOCATION:DP 1
CATEGORIES:QuickScores; Softball Game
TRANSP:0
DALARM:20240810T140000;PT10M;2;Aroogas/mvp vs. DC Grays
END:VEVENT
BEGIN:VEVENT
DTSTART:20240810T190000
DTEND:20240810T203000
SUMMARY:Expert Industrial Supply/Fradkin Law vs. Aroogas/mvp
DESCRIPTION:Men 50/55 AAA - International Senior Softball Association<br>ISSA
LOCATION:DP 1
CATEGORIES:QuickScores; Softball Game
TRANSP:0
DALARM:20240810T170000;PT10M;2;Expert Industrial Supply/Fradkin Law vs. Aroogas/mvp
END:VEVENT
BEGIN:VEVENT
DTSTART:20240811T130000
DTEND:20240811T143000
SUMMARY:Aroogas/mvp vs. Port City Classics
DESCRIPTION:Men 50/55 AAA - International Senior Softball Association<br>ISSA
LOCATION:DP 1
CATEGORIES:QuickScores; Softball Game
TRANSP:0
DALARM:20240811T110000;PT10M;2;Aroogas/mvp vs. Port City Classics
END:VEVENT
BEGIN:VEVENT
DTSTART:20240811T143000
DTEND:20240811T160000
SUMMARY:Port City Classics vs. Aroogas/mvp
DESCRIPTION:Men 50/55 AAA - International Senior Softball Association<br>ISSA
LOCATION:DP 1
CATEGORIES:QuickScores; Softball Game
TRANSP:0
DALARM:20240811T123000;PT10M;2;Port City Classics vs. Aroogas/mvp
END:VEVENT
END:VCALENDAR
