BEGIN:VCALENDAR
VERSION:1.0
BEGIN:VEVENT
DTSTART:20240719T133000
DTEND:20240719T150000
SUMMARY:Grill 584 vs. New Life Building Supplies/Reality Check
DESCRIPTION:Men 60 Major/65 Major Gold - International Senior Softball Association<br>ISSA
LOCATION:SW 2
CATEGORIES:QuickScores; Softball Game
TRANSP:0
DALARM:20240719T113000;PT10M;2;Grill 584 vs. New Life Building Supplies/Reality Check
END:VEVENT
BEGIN:VEVENT
DTSTART:20240719T150000
DTEND:20240719T163000
SUMMARY:New Life Building Supplies/Reality Check vs. Nova Force 60
DESCRIPTION:Men 60 Major/65 Major Gold - International Senior Softball Association<br>ISSA
LOCATION:SW 3
CATEGORIES:QuickScores; Softball Game
TRANSP:0
DALARM:20240719T130000;PT10M;2;New Life Building Supplies/Reality Check vs. Nova Force 60
END:VEVENT
END:VCALENDAR
