BEGIN:VCALENDAR
VERSION:1.0
BEGIN:VEVENT
DTSTART:20240618T133000
DTEND:20240618T150000
SUMMARY:High Street Hitmen vs. Pill and Pill 70s
DESCRIPTION:Men 70 Major/Major Gold - International Senior Softball Association<br>ISSA
LOCATION:BSC 1
CATEGORIES:QuickScores; Softball Game
TRANSP:0
DALARM:20240618T113000;PT10M;2;High Street Hitmen vs. Pill and Pill 70s
END:VEVENT
BEGIN:VEVENT
DTSTART:20240618T150000
DTEND:20240618T163000
SUMMARY:Pill and Pill 70s vs. Walk On's
DESCRIPTION:Men 70 Major/Major Gold - International Senior Softball Association<br>ISSA
LOCATION:BSC 4
CATEGORIES:QuickScores; Softball Game
TRANSP:0
DALARM:20240618T130000;PT10M;2;Pill and Pill 70s vs. Walk On's
END:VEVENT
END:VCALENDAR
