BEGIN:VCALENDAR
VERSION:1.0
BEGIN:VEVENT
DTSTART:20240621T150000
DTEND:20240621T163000
SUMMARY:Flatline / Van Metre Homes vs. Carolina Elite
DESCRIPTION:Men 50 AA - International Senior Softball Association<br>ISSA
LOCATION:ABS 2 - North
CATEGORIES:QuickScores; Softball Game
TRANSP:0
DALARM:20240621T130000;PT10M;2;Flatline / Van Metre Homes vs. Carolina Elite
END:VEVENT
BEGIN:VEVENT
DTSTART:20240621T180000
DTEND:20240621T193000
SUMMARY:Carolina Elite vs. JDL EXPRESS
DESCRIPTION:Men 50 AA - International Senior Softball Association<br>ISSA
LOCATION:ABS 2 - North
CATEGORIES:QuickScores; Softball Game
TRANSP:0
DALARM:20240621T160000;PT10M;2;Carolina Elite vs. JDL EXPRESS
END:VEVENT
BEGIN:VEVENT
DTSTART:20240622T113000
DTEND:20240622T130000
SUMMARY:[2] Flatline / Van Metre Homes vs. [3] Carolina Elite
DESCRIPTION:Men 50 AA - International Senior Softball Association<br>ISSA
LOCATION:WP 2
CATEGORIES:QuickScores; Softball Game
TRANSP:0
DALARM:20240622T093000;PT10M;2;[2] Flatline / Van Metre Homes vs. [3] Carolina Elite
END:VEVENT
BEGIN:VEVENT
DTSTART:20240622T160000
DTEND:20240622T173000
SUMMARY:[4] JDL EXPRESS vs. [3] Carolina Elite
DESCRIPTION:Men 50 AA - International Senior Softball Association<br>ISSA
LOCATION:WP 2
CATEGORIES:QuickScores; Softball Game
TRANSP:0
DALARM:20240622T140000;PT10M;2;[4] JDL EXPRESS vs. [3] Carolina Elite
END:VEVENT
END:VCALENDAR
