BEGIN:VCALENDAR
VERSION:1.0
BEGIN:VEVENT
DTSTART:20240501T133000
DTEND:20240501T150000
SUMMARY:Superior softball vs. Walk On's
DESCRIPTION:Men 70/75 Major Gold - International Senior Softball Association<br>ISSA
LOCATION:BP 2
CATEGORIES:QuickScores; Softball Game
TRANSP:0
DALARM:20240501T113000;PT10M;2;Superior softball vs. Walk On's
END:VEVENT
BEGIN:VEVENT
DTSTART:20240501T150000
DTEND:20240501T163000
SUMMARY:New Life Building Supplies/Reality Check vs. Superior softball
DESCRIPTION:Men 70/75 Major Gold - International Senior Softball Association<br>ISSA
LOCATION:BP 2
CATEGORIES:QuickScores; Softball Game
TRANSP:0
DALARM:20240501T130000;PT10M;2;New Life Building Supplies/Reality Check vs. Superior softball
END:VEVENT
END:VCALENDAR
