BEGIN:VCALENDAR
VERSION:1.0
BEGIN:VEVENT
DTSTART:20240501T133000
DTEND:20240501T150000
SUMMARY:SDA vs. High Street Bucs 75
DESCRIPTION:Men 70/75 Major Gold - International Senior Softball Association<br>ISSA
LOCATION:BP 1
CATEGORIES:QuickScores; Softball Game
TRANSP:0
DALARM:20240501T113000;PT10M;2;SDA vs. High Street Bucs 75
END:VEVENT
BEGIN:VEVENT
DTSTART:20240501T150000
DTEND:20240501T163000
SUMMARY:High Street Bucs 75 vs. Old Skool/Extra Innings/James Riv. Logistics
DESCRIPTION:Men 70/75 Major Gold - International Senior Softball Association<br>ISSA
LOCATION:BP 1
CATEGORIES:QuickScores; Softball Game
TRANSP:0
DALARM:20240501T130000;PT10M;2;High Street Bucs 75 vs. Old Skool/Extra Innings/James Riv. Logistics
END:VEVENT
END:VCALENDAR
