BEGIN:VCALENDAR
VERSION:1.0
BEGIN:VEVENT
DTSTART:20240412T090000
DTEND:20240412T103000
SUMMARY:Bill's A/C Bandits vs. Patriots
DESCRIPTION:Men 60 AA/AAA - International Senior Softball Association<br>ISSA
LOCATION:GP 7
CATEGORIES:QuickScores; Softball Game
TRANSP:0
DALARM:20240412T070000;PT10M;2;Bill's A/C Bandits vs. Patriots
END:VEVENT
BEGIN:VEVENT
DTSTART:20240412T120000
DTEND:20240412T133000
SUMMARY:Patriots vs. Myrtle Beach Impact
DESCRIPTION:Men 60 AA/AAA - International Senior Softball Association<br>ISSA
LOCATION:GP 7
CATEGORIES:QuickScores; Softball Game
TRANSP:0
DALARM:20240412T100000;PT10M;2;Patriots vs. Myrtle Beach Impact
END:VEVENT
END:VCALENDAR
