BEGIN:VCALENDAR
VERSION:1.0
BEGIN:VEVENT
DTSTART:20240412T103000
DTEND:20240412T120000
SUMMARY:New England Vipers vs. Sun City 60’s
DESCRIPTION:Men 60 AA/AAA - International Senior Softball Association<br>ISSA
LOCATION:GP 6
CATEGORIES:QuickScores; Softball Game
TRANSP:0
DALARM:20240412T083000;PT10M;2;New England Vipers vs. Sun City 60’s
END:VEVENT
BEGIN:VEVENT
DTSTART:20240412T120000
DTEND:20240412T133000
SUMMARY:Turn 2 Electric vs. New England Vipers
DESCRIPTION:Men 60 AA/AAA - International Senior Softball Association<br>ISSA
LOCATION:GP 6
CATEGORIES:QuickScores; Softball Game
TRANSP:0
DALARM:20240412T100000;PT10M;2;Turn 2 Electric vs. New England Vipers
END:VEVENT
END:VCALENDAR
