BEGIN:VCALENDAR
VERSION:1.0
BEGIN:VEVENT
DTSTART:20240412T120000
DTEND:20240412T133000
SUMMARY:Vecter Scorpions vs. Carolina Tank Lines
DESCRIPTION:Men 60 AA/AAA - International Senior Softball Association<br>ISSA
LOCATION:GP 3
CATEGORIES:QuickScores; Softball Game
TRANSP:0
DALARM:20240412T100000;PT10M;2;Vecter Scorpions vs. Carolina Tank Lines
END:VEVENT
BEGIN:VEVENT
DTSTART:20240412T133000
DTEND:20240412T150000
SUMMARY:Carolina Tank Lines vs. Holy City Hitmen
DESCRIPTION:Men 60 AA/AAA - International Senior Softball Association<br>ISSA
LOCATION:GP 3
CATEGORIES:QuickScores; Softball Game
TRANSP:0
DALARM:20240412T113000;PT10M;2;Carolina Tank Lines vs. Holy City Hitmen
END:VEVENT
END:VCALENDAR
