BEGIN:VCALENDAR
VERSION:1.0
BEGIN:VEVENT
DTSTART:20240202T150000
DTEND:20240202T163000
SUMMARY:Michigan Mafia vs. CPS/BSB
DESCRIPTION:Men 50 Major - International Senior Softball Association<br>ISSA
LOCATION:NTP 2
CATEGORIES:QuickScores; Softball Game
TRANSP:0
DALARM:20240202T130000;PT10M;2;Michigan Mafia vs. CPS/BSB
END:VEVENT
BEGIN:VEVENT
DTSTART:20240202T163000
DTEND:20240202T180000
SUMMARY:Michigan Mafia vs. Demolition/Big Hurt Softball 50/Shirts & Logos
DESCRIPTION:Men 50 Major - International Senior Softball Association<br>ISSA
LOCATION:NTP 3
CATEGORIES:QuickScores; Softball Game
TRANSP:0
DALARM:20240202T143000;PT10M;2;Michigan Mafia vs. Demolition/Big Hurt Softball 50/Shirts & Logos
END:VEVENT
BEGIN:VEVENT
DTSTART:20240203T123000
DTEND:20240203T140000
SUMMARY:[4] Michigan Mafia vs. [5] Half Century
DESCRIPTION:Men 50 Major - International Senior Softball Association<br>ISSA
LOCATION:NTP 1
CATEGORIES:QuickScores; Softball Game
TRANSP:0
DALARM:20240203T103000;PT10M;2;[4] Michigan Mafia vs. [5] Half Century
END:VEVENT
BEGIN:VEVENT
DTSTART:20240203T140000
DTEND:20240203T153000
SUMMARY:[1] GO sports 50+ vs. [4] Michigan Mafia
DESCRIPTION:Men 50 Major - International Senior Softball Association<br>ISSA
LOCATION:NTP 1
CATEGORIES:QuickScores; Softball Game
TRANSP:0
DALARM:20240203T120000;PT10M;2;[1] GO sports 50+ vs. [4] Michigan Mafia
END:VEVENT
BEGIN:VEVENT
DTSTART:20240203T183000
DTEND:20240203T200000
SUMMARY:[5] Half Century vs. [4] Michigan Mafia
DESCRIPTION:Men 50 Major - International Senior Softball Association<br>ISSA
LOCATION:NTP 1
CATEGORIES:QuickScores; Softball Game
TRANSP:0
DALARM:20240203T163000;PT10M;2;[5] Half Century vs. [4] Michigan Mafia
END:VEVENT
BEGIN:VEVENT
DTSTART:20240204T083000
DTEND:20240204T100000
SUMMARY:[2] Demolition/Big Hurt Softball 50/Shirts & Logos vs. [4] Michigan Mafia
DESCRIPTION:Men 50 Major - International Senior Softball Association<br>ISSA
LOCATION:NTP 4
CATEGORIES:QuickScores; Softball Game
TRANSP:0
DALARM:20240204T063000;PT10M;2;[2] Demolition/Big Hurt Softball 50/Shirts & Logos vs. [4] Michigan Mafia
END:VEVENT
END:VCALENDAR
