BEGIN:VCALENDAR
VERSION:1.0
BEGIN:VEVENT
DTSTART:20240202T150000
DTEND:20240202T163000
SUMMARY:Demolition/Big Hurt Softball 50/Shirts & Logos vs. Half Century
DESCRIPTION:Men 50 Major - International Senior Softball Association<br>ISSA
LOCATION:NTP 3
CATEGORIES:QuickScores; Softball Game
TRANSP:0
DALARM:20240202T130000;PT10M;2;Demolition/Big Hurt Softball 50/Shirts & Logos vs. Half Century
END:VEVENT
BEGIN:VEVENT
DTSTART:20240202T180000
DTEND:20240202T193000
SUMMARY:Half Century vs. GO sports 50+
DESCRIPTION:Men 50 Major - International Senior Softball Association<br>ISSA
LOCATION:NTP 2
CATEGORIES:QuickScores; Softball Game
TRANSP:0
DALARM:20240202T160000;PT10M;2;Half Century vs. GO sports 50+
END:VEVENT
BEGIN:VEVENT
DTSTART:20240203T123000
DTEND:20240203T140000
SUMMARY:[4] Michigan Mafia vs. [5] Half Century
DESCRIPTION:Men 50 Major - International Senior Softball Association<br>ISSA
LOCATION:NTP 1
CATEGORIES:QuickScores; Softball Game
TRANSP:0
DALARM:20240203T103000;PT10M;2;[4] Michigan Mafia vs. [5] Half Century
END:VEVENT
BEGIN:VEVENT
DTSTART:20240203T170000
DTEND:20240203T183000
SUMMARY:[3] CPS/BSB vs. [5] Half Century
DESCRIPTION:Men 50 Major - International Senior Softball Association<br>ISSA
LOCATION:NTP 1
CATEGORIES:QuickScores; Softball Game
TRANSP:0
DALARM:20240203T150000;PT10M;2;[3] CPS/BSB vs. [5] Half Century
END:VEVENT
BEGIN:VEVENT
DTSTART:20240203T183000
DTEND:20240203T200000
SUMMARY:[5] Half Century vs. [4] Michigan Mafia
DESCRIPTION:Men 50 Major - International Senior Softball Association<br>ISSA
LOCATION:NTP 1
CATEGORIES:QuickScores; Softball Game
TRANSP:0
DALARM:20240203T163000;PT10M;2;[5] Half Century vs. [4] Michigan Mafia
END:VEVENT
END:VCALENDAR
