BEGIN:VCALENDAR
VERSION:1.0
BEGIN:VEVENT
DTSTART:20230929T130000
DTEND:20230929T143000
SUMMARY:DC Grays vs. The Office Bar & Grill/ Maryland Classics
DESCRIPTION:Men 55 AA/AAA - International Senior Softball Association<br>ISSA
LOCATION:R 1
CATEGORIES:QuickScores; Softball Game
TRANSP:0
DALARM:20230929T110000;PT10M;2;DC Grays vs. The Office Bar & Grill/ Maryland Classics
END:VEVENT
BEGIN:VEVENT
DTSTART:20230929T143000
DTEND:20230929T160000
SUMMARY:The Office Bar & Grill/ Maryland Classics vs. Deleo Games
DESCRIPTION:Men 55 AA/AAA - International Senior Softball Association<br>ISSA
LOCATION:R 1
CATEGORIES:QuickScores; Softball Game
TRANSP:0
DALARM:20230929T123000;PT10M;2;The Office Bar & Grill/ Maryland Classics vs. Deleo Games
END:VEVENT
BEGIN:VEVENT
DTSTART:20230930T113000
DTEND:20230930T130000
SUMMARY:[B1] The Office Bar & Grill/ Maryland Classics vs. [A2] Chesapeake BLACKSOX
DESCRIPTION:Men 55 AA/AAA - International Senior Softball Association<br>ISSA
LOCATION:CVP 2
CATEGORIES:QuickScores; Softball Game
TRANSP:0
DALARM:20230930T093000;PT10M;2;[B1] The Office Bar & Grill/ Maryland Classics vs. [A2] Chesapeake BLACKSOX
END:VEVENT
BEGIN:VEVENT
DTSTART:20230930T143000
DTEND:20230930T160000
SUMMARY:[B1] The Office Bar & Grill/ Maryland Classics vs. [B2] DC Grays
DESCRIPTION:Men 55 AA/AAA - International Senior Softball Association<br>ISSA
LOCATION:CVP 1
CATEGORIES:QuickScores; Softball Game
TRANSP:0
DALARM:20230930T123000;PT10M;2;[B1] The Office Bar & Grill/ Maryland Classics vs. [B2] DC Grays
END:VEVENT
END:VCALENDAR
