BEGIN:VCALENDAR
VERSION:1.0
BEGIN:VEVENT
DTSTART:20230929T143000
DTEND:20230929T160000
SUMMARY:Chesapeake BLACKSOX vs. Bull City Crushers
DESCRIPTION:Men 55 AA/AAA - International Senior Softball Association<br>ISSA
LOCATION:R 2
CATEGORIES:QuickScores; Softball Game
TRANSP:0
DALARM:20230929T123000;PT10M;2;Chesapeake BLACKSOX vs. Bull City Crushers
END:VEVENT
BEGIN:VEVENT
DTSTART:20230929T160000
DTEND:20230929T173000
SUMMARY:Buell Fuel 55 vs. Chesapeake BLACKSOX
DESCRIPTION:Men 55 AA/AAA - International Senior Softball Association<br>ISSA
LOCATION:R 2
CATEGORIES:QuickScores; Softball Game
TRANSP:0
DALARM:20230929T140000;PT10M;2;Buell Fuel 55 vs. Chesapeake BLACKSOX
END:VEVENT
BEGIN:VEVENT
DTSTART:20230930T100000
DTEND:20230930T113000
SUMMARY:[A2] Chesapeake BLACKSOX vs. [B3] Deleo Games
DESCRIPTION:Men 55 AA/AAA - International Senior Softball Association<br>ISSA
LOCATION:CVP 2
CATEGORIES:QuickScores; Softball Game
TRANSP:0
DALARM:20230930T080000;PT10M;2;[A2] Chesapeake BLACKSOX vs. [B3] Deleo Games
END:VEVENT
BEGIN:VEVENT
DTSTART:20230930T113000
DTEND:20230930T130000
SUMMARY:[B1] The Office Bar & Grill/ Maryland Classics vs. [A2] Chesapeake BLACKSOX
DESCRIPTION:Men 55 AA/AAA - International Senior Softball Association<br>ISSA
LOCATION:CVP 2
CATEGORIES:QuickScores; Softball Game
TRANSP:0
DALARM:20230930T093000;PT10M;2;[B1] The Office Bar & Grill/ Maryland Classics vs. [A2] Chesapeake BLACKSOX
END:VEVENT
BEGIN:VEVENT
DTSTART:20230930T160000
DTEND:20230930T173000
SUMMARY:[A1] Buell Fuel 55 vs. [A2] Chesapeake BLACKSOX
DESCRIPTION:Men 55 AA/AAA - International Senior Softball Association<br>ISSA
LOCATION:CVP 1
CATEGORIES:QuickScores; Softball Game
TRANSP:0
DALARM:20230930T140000;PT10M;2;[A1] Buell Fuel 55 vs. [A2] Chesapeake BLACKSOX
END:VEVENT
BEGIN:VEVENT
DTSTART:20231001T100000
DTEND:20231001T113000
SUMMARY:[A2] Chesapeake BLACKSOX vs. [A1] Buell Fuel 55
DESCRIPTION:Men 55 AA/AAA - International Senior Softball Association<br>ISSA
LOCATION:G 1
CATEGORIES:QuickScores; Softball Game
TRANSP:0
DALARM:20231001T080000;PT10M;2;[A2] Chesapeake BLACKSOX vs. [A1] Buell Fuel 55
END:VEVENT
BEGIN:VEVENT
DTSTART:20231001T113000
DTEND:20231001T130000
SUMMARY:[A1] Buell Fuel 55 vs. [A2] Chesapeake BLACKSOX
DESCRIPTION:Men 55 AA/AAA - International Senior Softball Association<br>ISSA
LOCATION:G 1
CATEGORIES:QuickScores; Softball Game
TRANSP:0
DALARM:20231001T093000;PT10M;2;[A1] Buell Fuel 55 vs. [A2] Chesapeake BLACKSOX
END:VEVENT
END:VCALENDAR
