BEGIN:VCALENDAR
VERSION:1.0
BEGIN:VEVENT
DTSTART:20230929T130000
DTEND:20230929T143000
SUMMARY:Bull City Crushers vs. Buell Fuel 55
DESCRIPTION:Men 55 AA/AAA - International Senior Softball Association<br>ISSA
LOCATION:R 2
CATEGORIES:QuickScores; Softball Game
TRANSP:0
DALARM:20230929T110000;PT10M;2;Bull City Crushers vs. Buell Fuel 55
END:VEVENT
BEGIN:VEVENT
DTSTART:20230929T143000
DTEND:20230929T160000
SUMMARY:Chesapeake BLACKSOX vs. Bull City Crushers
DESCRIPTION:Men 55 AA/AAA - International Senior Softball Association<br>ISSA
LOCATION:R 2
CATEGORIES:QuickScores; Softball Game
TRANSP:0
DALARM:20230929T123000;PT10M;2;Chesapeake BLACKSOX vs. Bull City Crushers
END:VEVENT
BEGIN:VEVENT
DTSTART:20230930T100000
DTEND:20230930T113000
SUMMARY:[B2] DC Grays vs. [A3] Bull City Crushers
DESCRIPTION:Men 55 AA/AAA - International Senior Softball Association<br>ISSA
LOCATION:CVP 1
CATEGORIES:QuickScores; Softball Game
TRANSP:0
DALARM:20230930T080000;PT10M;2;[B2] DC Grays vs. [A3] Bull City Crushers
END:VEVENT
BEGIN:VEVENT
DTSTART:20230930T113000
DTEND:20230930T130000
SUMMARY:[A1] Buell Fuel 55 vs. [A3] Bull City Crushers
DESCRIPTION:Men 55 AA/AAA - International Senior Softball Association<br>ISSA
LOCATION:CVP 1
CATEGORIES:QuickScores; Softball Game
TRANSP:0
DALARM:20230930T093000;PT10M;2;[A1] Buell Fuel 55 vs. [A3] Bull City Crushers
END:VEVENT
BEGIN:VEVENT
DTSTART:20230930T143000
DTEND:20230930T160000
SUMMARY:[A3] Bull City Crushers vs. [B3] Deleo Games
DESCRIPTION:Men 55 AA/AAA - International Senior Softball Association<br>ISSA
LOCATION:CVP 2
CATEGORIES:QuickScores; Softball Game
TRANSP:0
DALARM:20230930T123000;PT10M;2;[A3] Bull City Crushers vs. [B3] Deleo Games
END:VEVENT
END:VCALENDAR
