BEGIN:VCALENDAR
VERSION:1.0
BEGIN:VEVENT
DTSTART:20230908T143000
DTEND:20230908T160000
SUMMARY:Derby City Masters vs. Andy's Cafe 55 Expose
DESCRIPTION:Men 55 AAA - International Senior Softball Association<br>ISSA
LOCATION:ISP 6
CATEGORIES:QuickScores; Softball Game
TRANSP:0
DALARM:20230908T123000;PT10M;2;Derby City Masters vs. Andy's Cafe 55 Expose
END:VEVENT
BEGIN:VEVENT
DTSTART:20230908T160000
DTEND:20230908T173000
SUMMARY:Team Illinois 55 vs. Derby City Masters
DESCRIPTION:Men 55 AAA - International Senior Softball Association<br>ISSA
LOCATION:ISP 6
CATEGORIES:QuickScores; Softball Game
TRANSP:0
DALARM:20230908T140000;PT10M;2;Team Illinois 55 vs. Derby City Masters
END:VEVENT
BEGIN:VEVENT
DTSTART:20230909T100000
DTEND:20230909T113000
SUMMARY:[4] Team OG 55 vs. [5] Derby City Masters
DESCRIPTION:Men 55 AAA - International Senior Softball Association<br>ISSA
LOCATION:ISP 6
CATEGORIES:QuickScores; Softball Game
TRANSP:0
DALARM:20230909T080000;PT10M;2;[4] Team OG 55 vs. [5] Derby City Masters
END:VEVENT
BEGIN:VEVENT
DTSTART:20230909T113000
DTEND:20230909T130000
SUMMARY:[1] Andy's Cafe 55 Expose vs. [5] Derby City Masters
DESCRIPTION:Men 55 AAA - International Senior Softball Association<br>ISSA
LOCATION:ISP 6
CATEGORIES:QuickScores; Softball Game
TRANSP:0
DALARM:20230909T093000;PT10M;2;[1] Andy's Cafe 55 Expose vs. [5] Derby City Masters
END:VEVENT
BEGIN:VEVENT
DTSTART:20230909T173000
DTEND:20230909T190000
SUMMARY:[3] Buell Fuel 55 vs. [5] Derby City Masters
DESCRIPTION:Men 55 AAA - International Senior Softball Association<br>ISSA
LOCATION:ISP 7
CATEGORIES:QuickScores; Softball Game
TRANSP:0
DALARM:20230909T153000;PT10M;2;[3] Buell Fuel 55 vs. [5] Derby City Masters
END:VEVENT
END:VCALENDAR
