BEGIN:VCALENDAR
VERSION:1.0
BEGIN:VEVENT
DTSTART:20230908T160000
DTEND:20230908T173000
SUMMARY:Our Dirt Softball vs. Pro V / csn
DESCRIPTION:Men 50 AAA - International Senior Softball Association<br>ISSA
LOCATION:ISP 8
CATEGORIES:QuickScores; Softball Game
TRANSP:0
DALARM:20230908T140000;PT10M;2;Our Dirt Softball vs. Pro V / csn
END:VEVENT
BEGIN:VEVENT
DTSTART:20230908T173000
DTEND:20230908T190000
SUMMARY:Pro V / csn vs. MC Improvements
DESCRIPTION:Men 50 AAA - International Senior Softball Association<br>ISSA
LOCATION:ISP 8
CATEGORIES:QuickScores; Softball Game
TRANSP:0
DALARM:20230908T153000;PT10M;2;Pro V / csn vs. MC Improvements
END:VEVENT
BEGIN:VEVENT
DTSTART:20230909T083000
DTEND:20230909T100000
SUMMARY:[A3] All In vs. [B4] Pro V / csn
DESCRIPTION:Men 50 AAA - International Senior Softball Association<br>ISSA
LOCATION:ISP 8
CATEGORIES:QuickScores; Softball Game
TRANSP:0
DALARM:20230909T063000;PT10M;2;[A3] All In vs. [B4] Pro V / csn
END:VEVENT
BEGIN:VEVENT
DTSTART:20230909T100000
DTEND:20230909T113000
SUMMARY:[B1] MC Improvements vs. [B4] Pro V / csn
DESCRIPTION:Men 50 AAA - International Senior Softball Association<br>ISSA
LOCATION:ISP 8
CATEGORIES:QuickScores; Softball Game
TRANSP:0
DALARM:20230909T080000;PT10M;2;[B1] MC Improvements vs. [B4] Pro V / csn
END:VEVENT
BEGIN:VEVENT
DTSTART:20230909T160000
DTEND:20230909T173000
SUMMARY:[B3] River City Thunder vs. [B4] Pro V / csn
DESCRIPTION:Men 50 AAA - International Senior Softball Association<br>ISSA
LOCATION:ISP 5
CATEGORIES:QuickScores; Softball Game
TRANSP:0
DALARM:20230909T140000;PT10M;2;[B3] River City Thunder vs. [B4] Pro V / csn
END:VEVENT
BEGIN:VEVENT
DTSTART:20230909T173000
DTEND:20230909T190000
SUMMARY:[C2] Team OG 50 vs. [B4] Pro V / csn
DESCRIPTION:Men 50 AAA - International Senior Softball Association<br>ISSA
LOCATION:ISP 5
CATEGORIES:QuickScores; Softball Game
TRANSP:0
DALARM:20230909T153000;PT10M;2;[C2] Team OG 50 vs. [B4] Pro V / csn
END:VEVENT
BEGIN:VEVENT
DTSTART:20230910T083000
DTEND:20230910T100000
SUMMARY:[B4] Pro V / csn vs. [C1] Tennessee Select/LP Sports 50's
DESCRIPTION:Men 50 AAA - International Senior Softball Association<br>ISSA
LOCATION:ISP 1
CATEGORIES:QuickScores; Softball Game
TRANSP:0
DALARM:20230910T063000;PT10M;2;[B4] Pro V / csn vs. [C1] Tennessee Select/LP Sports 50's
END:VEVENT
END:VCALENDAR
