BEGIN:VCALENDAR
VERSION:1.0
BEGIN:VEVENT
DTSTART:20230714T130000
DTEND:20230714T143000
SUMMARY:Dan Smith/ Steve Smith 55 Major vs. Extra Innings / OBF
DESCRIPTION:Men 55 Major/Major Gold/60 Major Gold - International Senior Softball Association<br>ISSA
LOCATION:SW 2
CATEGORIES:QuickScores; Softball Game
TRANSP:0
DALARM:20230714T110000;PT10M;2;Dan Smith/ Steve Smith 55 Major vs. Extra Innings / OBF
END:VEVENT
BEGIN:VEVENT
DTSTART:20230714T173000
DTEND:20230714T190000
SUMMARY:Extra Innings / OBF vs. carolina a's
DESCRIPTION:Men 55 Major/Major Gold/60 Major Gold - International Senior Softball Association<br>ISSA
LOCATION:SW 1
CATEGORIES:QuickScores; Softball Game
TRANSP:0
DALARM:20230714T153000;PT10M;2;Extra Innings / OBF vs. carolina a's
END:VEVENT
END:VCALENDAR
