BEGIN:VCALENDAR
VERSION:1.0
BEGIN:VEVENT
DTSTART:20230606T100000
DTEND:20230606T113000
SUMMARY:Superior Softball vs. REI Nation
DESCRIPTION:Men 70 Major Gold - International Senior Softball Association<br>ISSA
LOCATION:EP 2
CATEGORIES:QuickScores; Softball Game
TRANSP:0
DALARM:20230606T080000;PT10M;2;Superior Softball vs. REI Nation
END:VEVENT
BEGIN:VEVENT
DTSTART:20230606T113000
DTEND:20230606T130000
SUMMARY:Via Citrus 70 vs. Superior Softball
DESCRIPTION:Men 70 Major Gold - International Senior Softball Association<br>ISSA
LOCATION:EP 2
CATEGORIES:QuickScores; Softball Game
TRANSP:0
DALARM:20230606T093000;PT10M;2;Via Citrus 70 vs. Superior Softball
END:VEVENT
BEGIN:VEVENT
DTSTART:20230607T093000
DTEND:20230607T110000
SUMMARY:[B2] Superior Softball vs. [A3] Dayton Legends
DESCRIPTION:Men 70 Major Gold - International Senior Softball Association<br>ISSA
LOCATION:EP 1
CATEGORIES:QuickScores; Softball Game
TRANSP:0
DALARM:20230607T073000;PT10M;2;[B2] Superior Softball vs. [A3] Dayton Legends
END:VEVENT
BEGIN:VEVENT
DTSTART:20230607T110000
DTEND:20230607T123000
SUMMARY:[A1] Finest Athletics vs. [B2] Superior Softball
DESCRIPTION:Men 70 Major Gold - International Senior Softball Association<br>ISSA
LOCATION:EP 1
CATEGORIES:QuickScores; Softball Game
TRANSP:0
DALARM:20230607T090000;PT10M;2;[A1] Finest Athletics vs. [B2] Superior Softball
END:VEVENT
BEGIN:VEVENT
DTSTART:20230607T170000
DTEND:20230607T183000
SUMMARY:[B2] Superior Softball vs. [B3] REI Nation
DESCRIPTION:Men 70 Major Gold - International Senior Softball Association<br>ISSA
LOCATION:EP 2
CATEGORIES:QuickScores; Softball Game
TRANSP:0
DALARM:20230607T150000;PT10M;2;[B2] Superior Softball vs. [B3] REI Nation
END:VEVENT
BEGIN:VEVENT
DTSTART:20230608T083000
DTEND:20230608T100000
SUMMARY:[A3] Dayton Legends vs. [B2] Superior Softball
DESCRIPTION:Men 70 Major Gold - International Senior Softball Association<br>ISSA
LOCATION:EP 1
CATEGORIES:QuickScores; Softball Game
TRANSP:0
DALARM:20230608T063000;PT10M;2;[A3] Dayton Legends vs. [B2] Superior Softball
END:VEVENT
BEGIN:VEVENT
DTSTART:20230608T100000
DTEND:20230608T113000
SUMMARY:[A1] Finest Athletics vs. [B2] Superior Softball
DESCRIPTION:Men 70 Major Gold - International Senior Softball Association<br>ISSA
LOCATION:EP 1
CATEGORIES:QuickScores; Softball Game
TRANSP:0
DALARM:20230608T080000;PT10M;2;[A1] Finest Athletics vs. [B2] Superior Softball
END:VEVENT
END:VCALENDAR
