BEGIN:VCALENDAR
VERSION:1.0
BEGIN:VEVENT
DTSTART:20230606T083000
DTEND:20230606T100000
SUMMARY:REI Nation vs. Via Citrus 70
DESCRIPTION:Men 70 Major Gold - International Senior Softball Association<br>ISSA
LOCATION:EP 2
CATEGORIES:QuickScores; Softball Game
TRANSP:0
DALARM:20230606T063000;PT10M;2;REI Nation vs. Via Citrus 70
END:VEVENT
BEGIN:VEVENT
DTSTART:20230606T100000
DTEND:20230606T113000
SUMMARY:Superior Softball vs. REI Nation
DESCRIPTION:Men 70 Major Gold - International Senior Softball Association<br>ISSA
LOCATION:EP 2
CATEGORIES:QuickScores; Softball Game
TRANSP:0
DALARM:20230606T080000;PT10M;2;Superior Softball vs. REI Nation
END:VEVENT
BEGIN:VEVENT
DTSTART:20230607T110000
DTEND:20230607T123000
SUMMARY:[A2] Hollis Appraisals 70 vs. [B3] REI Nation
DESCRIPTION:Men 70 Major Gold - International Senior Softball Association<br>ISSA
LOCATION:EP 2
CATEGORIES:QuickScores; Softball Game
TRANSP:0
DALARM:20230607T090000;PT10M;2;[A2] Hollis Appraisals 70 vs. [B3] REI Nation
END:VEVENT
BEGIN:VEVENT
DTSTART:20230607T170000
DTEND:20230607T183000
SUMMARY:[B2] Superior Softball vs. [B3] REI Nation
DESCRIPTION:Men 70 Major Gold - International Senior Softball Association<br>ISSA
LOCATION:EP 2
CATEGORIES:QuickScores; Softball Game
TRANSP:0
DALARM:20230607T150000;PT10M;2;[B2] Superior Softball vs. [B3] REI Nation
END:VEVENT
END:VCALENDAR
