BEGIN:VCALENDAR
VERSION:1.0
BEGIN:VEVENT
DTSTART:20230606T083000
DTEND:20230606T100000
SUMMARY:Hollis Appraisals 70 vs. Finest Athletics
DESCRIPTION:Men 70 Major Gold - International Senior Softball Association<br>ISSA
LOCATION:EP 1
CATEGORIES:QuickScores; Softball Game
TRANSP:0
DALARM:20230606T063000;PT10M;2;Hollis Appraisals 70 vs. Finest Athletics
END:VEVENT
BEGIN:VEVENT
DTSTART:20230606T100000
DTEND:20230606T113000
SUMMARY:Dayton Legends vs. Hollis Appraisals 70
DESCRIPTION:Men 70 Major Gold - International Senior Softball Association<br>ISSA
LOCATION:EP 1
CATEGORIES:QuickScores; Softball Game
TRANSP:0
DALARM:20230606T080000;PT10M;2;Dayton Legends vs. Hollis Appraisals 70
END:VEVENT
BEGIN:VEVENT
DTSTART:20230607T110000
DTEND:20230607T123000
SUMMARY:[A2] Hollis Appraisals 70 vs. [B3] REI Nation
DESCRIPTION:Men 70 Major Gold - International Senior Softball Association<br>ISSA
LOCATION:EP 2
CATEGORIES:QuickScores; Softball Game
TRANSP:0
DALARM:20230607T090000;PT10M;2;[A2] Hollis Appraisals 70 vs. [B3] REI Nation
END:VEVENT
BEGIN:VEVENT
DTSTART:20230607T123000
DTEND:20230607T140000
SUMMARY:[B1] Via Citrus 70 vs. [A2] Hollis Appraisals 70
DESCRIPTION:Men 70 Major Gold - International Senior Softball Association<br>ISSA
LOCATION:EP 1
CATEGORIES:QuickScores; Softball Game
TRANSP:0
DALARM:20230607T103000;PT10M;2;[B1] Via Citrus 70 vs. [A2] Hollis Appraisals 70
END:VEVENT
BEGIN:VEVENT
DTSTART:20230607T153000
DTEND:20230607T170000
SUMMARY:[A2] Hollis Appraisals 70 vs. [A3] Dayton Legends
DESCRIPTION:Men 70 Major Gold - International Senior Softball Association<br>ISSA
LOCATION:EP 2
CATEGORIES:QuickScores; Softball Game
TRANSP:0
DALARM:20230607T133000;PT10M;2;[A2] Hollis Appraisals 70 vs. [A3] Dayton Legends
END:VEVENT
END:VCALENDAR
