BEGIN:VCALENDAR
VERSION:1.0
BEGIN:VEVENT
DTSTART:20230414T100000
DTEND:20230414T113000
SUMMARY:Promotion/Phoenix Tube vs. The Ockers Company 65's
DESCRIPTION:Men 65 Major Gold - International Senior Softball Association<br>ISSA
LOCATION:VV 1
CATEGORIES:QuickScores; Softball Game
TRANSP:0
DALARM:20230414T080000;PT10M;2;Promotion/Phoenix Tube vs. The Ockers Company 65's
END:VEVENT
BEGIN:VEVENT
DTSTART:20230414T130000
DTEND:20230414T143000
SUMMARY:The Ockers Company 65's vs. Simmons Day Allstars
DESCRIPTION:Men 65 Major Gold - International Senior Softball Association<br>ISSA
LOCATION:VV 1
CATEGORIES:QuickScores; Softball Game
TRANSP:0
DALARM:20230414T110000;PT10M;2;The Ockers Company 65's vs. Simmons Day Allstars
END:VEVENT
BEGIN:VEVENT
DTSTART:20230415T100000
DTEND:20230415T113000
SUMMARY:[1] The Ockers Company 65's vs. [4] Promotion/Phoenix Tube
DESCRIPTION:Men 65 Major Gold - International Senior Softball Association<br>ISSA
LOCATION:VV 4
CATEGORIES:QuickScores; Softball Game
TRANSP:0
DALARM:20230415T080000;PT10M;2;[1] The Ockers Company 65's vs. [4] Promotion/Phoenix Tube
END:VEVENT
BEGIN:VEVENT
DTSTART:20230415T113000
DTEND:20230415T130000
SUMMARY:[1] The Ockers Company 65's vs. [2] Simmons Day Allstars
DESCRIPTION:Men 65 Major Gold - International Senior Softball Association<br>ISSA
LOCATION:VV 4
CATEGORIES:QuickScores; Softball Game
TRANSP:0
DALARM:20230415T093000;PT10M;2;[1] The Ockers Company 65's vs. [2] Simmons Day Allstars
END:VEVENT
BEGIN:VEVENT
DTSTART:20230416T100000
DTEND:20230416T113000
SUMMARY:[1] The Ockers Company 65's vs. [2] Simmons Day Allstars
DESCRIPTION:Men 65 Major Gold - International Senior Softball Association<br>ISSA
LOCATION:VV 5
CATEGORIES:QuickScores; Softball Game
TRANSP:0
DALARM:20230416T080000;PT10M;2;[1] The Ockers Company 65's vs. [2] Simmons Day Allstars
END:VEVENT
BEGIN:VEVENT
DTSTART:20230416T113000
DTEND:20230416T130000
SUMMARY:[2] Simmons Day Allstars vs. [1] The Ockers Company 65's
DESCRIPTION:Men 65 Major Gold - International Senior Softball Association<br>ISSA
LOCATION:VV 5
CATEGORIES:QuickScores; Softball Game
TRANSP:0
DALARM:20230416T093000;PT10M;2;[2] Simmons Day Allstars vs. [1] The Ockers Company 65's
END:VEVENT
END:VCALENDAR
