BEGIN:VCALENDAR
VERSION:1.0
BEGIN:VEVENT
DTSTART:20230414T100000
DTEND:20230414T113000
SUMMARY:Promotion/Phoenix Tube vs. The Ockers Company 65's
DESCRIPTION:Men 65 Major Gold - International Senior Softball Association<br>ISSA
LOCATION:VV 1
CATEGORIES:QuickScores; Softball Game
TRANSP:0
DALARM:20230414T080000;PT10M;2;Promotion/Phoenix Tube vs. The Ockers Company 65's
END:VEVENT
BEGIN:VEVENT
DTSTART:20230414T113000
DTEND:20230414T130000
SUMMARY:Bassa Mist / Goodman vs. Promotion/Phoenix Tube
DESCRIPTION:Men 65 Major Gold - International Senior Softball Association<br>ISSA
LOCATION:VV 1
CATEGORIES:QuickScores; Softball Game
TRANSP:0
DALARM:20230414T093000;PT10M;2;Bassa Mist / Goodman vs. Promotion/Phoenix Tube
END:VEVENT
BEGIN:VEVENT
DTSTART:20230415T100000
DTEND:20230415T113000
SUMMARY:[1] The Ockers Company 65's vs. [4] Promotion/Phoenix Tube
DESCRIPTION:Men 65 Major Gold - International Senior Softball Association<br>ISSA
LOCATION:VV 4
CATEGORIES:QuickScores; Softball Game
TRANSP:0
DALARM:20230415T080000;PT10M;2;[1] The Ockers Company 65's vs. [4] Promotion/Phoenix Tube
END:VEVENT
BEGIN:VEVENT
DTSTART:20230415T130000
DTEND:20230415T143000
SUMMARY:[4] Promotion/Phoenix Tube vs. [3] Bassa Mist / Goodman
DESCRIPTION:Men 65 Major Gold - International Senior Softball Association<br>ISSA
LOCATION:VV 4
CATEGORIES:QuickScores; Softball Game
TRANSP:0
DALARM:20230415T110000;PT10M;2;[4] Promotion/Phoenix Tube vs. [3] Bassa Mist / Goodman
END:VEVENT
BEGIN:VEVENT
DTSTART:20230416T083000
DTEND:20230416T100000
SUMMARY:[2] Simmons Day Allstars vs. [4] Promotion/Phoenix Tube
DESCRIPTION:Men 65 Major Gold - International Senior Softball Association<br>ISSA
LOCATION:VV 5
CATEGORIES:QuickScores; Softball Game
TRANSP:0
DALARM:20230416T063000;PT10M;2;[2] Simmons Day Allstars vs. [4] Promotion/Phoenix Tube
END:VEVENT
END:VCALENDAR
