BEGIN:VCALENDAR
VERSION:1.0
BEGIN:VEVENT
DTSTART:20230303T173000
DTEND:20230303T190000
SUMMARY:Crossfire 50's vs. Old-FAITH-Full
DESCRIPTION:Men 50 AAA - International Senior Softball Association<br>ISSA
LOCATION:CRC 2
CATEGORIES:QuickScores; Softball Game
TRANSP:0
DALARM:20230303T153000;PT10M;2;Crossfire 50's vs. Old-FAITH-Full
END:VEVENT
BEGIN:VEVENT
DTSTART:20230303T190000
DTEND:20230303T203000
SUMMARY:Reapers vs. Crossfire 50's
DESCRIPTION:Men 50 AAA - International Senior Softball Association<br>ISSA
LOCATION:CRC 1
CATEGORIES:QuickScores; Softball Game
TRANSP:0
DALARM:20230303T170000;PT10M;2;Reapers vs. Crossfire 50's
END:VEVENT
BEGIN:VEVENT
DTSTART:20230304T113000
DTEND:20230304T130000
SUMMARY:[2] Reapers vs. [3] Crossfire 50's
DESCRIPTION:Men 50 AAA - International Senior Softball Association<br>ISSA
LOCATION:CRC 3
CATEGORIES:QuickScores; Softball Game
TRANSP:0
DALARM:20230304T093000;PT10M;2;[2] Reapers vs. [3] Crossfire 50's
END:VEVENT
BEGIN:VEVENT
DTSTART:20230304T160000
DTEND:20230304T173000
SUMMARY:[1] Team Creed 50s vs. [3] Crossfire 50's
DESCRIPTION:Men 50 AAA - International Senior Softball Association<br>ISSA
LOCATION:CRC 1
CATEGORIES:QuickScores; Softball Game
TRANSP:0
DALARM:20230304T140000;PT10M;2;[1] Team Creed 50s vs. [3] Crossfire 50's
END:VEVENT
BEGIN:VEVENT
DTSTART:20230305T103000
DTEND:20230305T120000
SUMMARY:[3] Crossfire 50's vs. [1] Team Creed 50s
DESCRIPTION:Men 50 AAA - International Senior Softball Association<br>ISSA
LOCATION:CRC 3
CATEGORIES:QuickScores; Softball Game
TRANSP:0
DALARM:20230305T083000;PT10M;2;[3] Crossfire 50's vs. [1] Team Creed 50s
END:VEVENT
END:VCALENDAR
