BEGIN:VCALENDAR
VERSION:1.0
BEGIN:VEVENT
DTSTART:20220610T103000
DTEND:20220610T120000
SUMMARY:Lowe Legends vs. Rampage Softball
DESCRIPTION:50 AAA - National - International Senior Softball Association<br>ISSA
LOCATION:RBC 1
CATEGORIES:QuickScores; Softball Game
TRANSP:0
DALARM:20220610T083000;PT10M;2;Lowe Legends vs. Rampage Softball
END:VEVENT
BEGIN:VEVENT
DTSTART:20220610T133000
DTEND:20220610T150000
SUMMARY:Rampage Softball vs. Lightning Softball/BAF Sports/J&S Design
DESCRIPTION:50 AAA - National - International Senior Softball Association<br>ISSA
LOCATION:RBC 2
CATEGORIES:QuickScores; Softball Game
TRANSP:0
DALARM:20220610T113000;PT10M;2;Rampage Softball vs. Lightning Softball/BAF Sports/J&S Design
END:VEVENT
BEGIN:VEVENT
DTSTART:20220610T170000
DTEND:20220610T183000
SUMMARY:[C2] Rampage Softball vs. [B3] United Softball
DESCRIPTION:50 AAA - National - International Senior Softball Association<br>ISSA
LOCATION:RBC 4
CATEGORIES:QuickScores; Softball Game
TRANSP:0
DALARM:20220610T150000;PT10M;2;[C2] Rampage Softball vs. [B3] United Softball
END:VEVENT
BEGIN:VEVENT
DTSTART:20220611T080000
DTEND:20220611T093000
SUMMARY:[A1] PULSECHAIN.com vs. [C2] Rampage Softball
DESCRIPTION:50 AAA - National - International Senior Softball Association<br>ISSA
LOCATION:RBC 1
CATEGORIES:QuickScores; Softball Game
TRANSP:0
DALARM:20220611T060000;PT10M;2;[A1] PULSECHAIN.com vs. [C2] Rampage Softball
END:VEVENT
BEGIN:VEVENT
DTSTART:20220611T123000
DTEND:20220611T140000
SUMMARY:[C2] Rampage Softball vs. [A2] Palmetto Mutiny
DESCRIPTION:50 AAA - National - International Senior Softball Association<br>ISSA
LOCATION:RBC 3
CATEGORIES:QuickScores; Softball Game
TRANSP:0
DALARM:20220611T103000;PT10M;2;[C2] Rampage Softball vs. [A2] Palmetto Mutiny
END:VEVENT
BEGIN:VEVENT
DTSTART:20220611T153000
DTEND:20220611T170000
SUMMARY:[C3] River City Thunder vs. [C2] Rampage Softball
DESCRIPTION:50 AAA - National - International Senior Softball Association<br>ISSA
LOCATION:RBC 1
CATEGORIES:QuickScores; Softball Game
TRANSP:0
DALARM:20220611T133000;PT10M;2;[C3] River City Thunder vs. [C2] Rampage Softball
END:VEVENT
BEGIN:VEVENT
DTSTART:20220611T170000
DTEND:20220611T183000
SUMMARY:[D2] Paradise Painting/Allstate Carburetor/Roebell vs. [C2] Rampage Softball
DESCRIPTION:50 AAA - National - International Senior Softball Association<br>ISSA
LOCATION:RBC 1
CATEGORIES:QuickScores; Softball Game
TRANSP:0
DALARM:20220611T150000;PT10M;2;[D2] Paradise Painting/Allstate Carburetor/Roebell vs. [C2] Rampage Softball
END:VEVENT
END:VCALENDAR
