BEGIN:VCALENDAR
VERSION:1.0
BEGIN:VEVENT
DTSTART:20220610T103000
DTEND:20220610T120000
SUMMARY:Silver Rays 50's vs. Paradise Painting/Allstate Carburetor/Roebell Pain
DESCRIPTION:50 AAA - National - International Senior Softball Association<br>ISSA
LOCATION:RBC 3
CATEGORIES:QuickScores; Softball Game
TRANSP:0
DALARM:20220610T083000;PT10M;2;Silver Rays 50's vs. Paradise Painting/Allstate Carburetor/Roebell Pain
END:VEVENT
BEGIN:VEVENT
DTSTART:20220610T133000
DTEND:20220610T150000
SUMMARY:Paradise Painting/Allstate Carburetor/Roebell Pain vs. Roofmasters
DESCRIPTION:50 AAA - National - International Senior Softball Association<br>ISSA
LOCATION:RBC 4
CATEGORIES:QuickScores; Softball Game
TRANSP:0
DALARM:20220610T113000;PT10M;2;Paradise Painting/Allstate Carburetor/Roebell Pain vs. Roofmasters
END:VEVENT
BEGIN:VEVENT
DTSTART:20220610T170000
DTEND:20220610T183000
SUMMARY:[A2] Palmetto Mutiny vs. [D2] Paradise Painting/Allstate Carburetor/Roebell
DESCRIPTION:50 AAA - National - International Senior Softball Association<br>ISSA
LOCATION:RBC 3
CATEGORIES:QuickScores; Softball Game
TRANSP:0
DALARM:20220610T150000;PT10M;2;[A2] Palmetto Mutiny vs. [D2] Paradise Painting/Allstate Carburetor/Roebell
END:VEVENT
BEGIN:VEVENT
DTSTART:20220611T093000
DTEND:20220611T110000
SUMMARY:[C1] Lightning Softball/BAF Sports/J&S Design vs. [D2] Paradise Painting/Allstate Carburetor/Roebell
DESCRIPTION:50 AAA - National - International Senior Softball Association<br>ISSA
LOCATION:RBC 1
CATEGORIES:QuickScores; Softball Game
TRANSP:0
DALARM:20220611T073000;PT10M;2;[C1] Lightning Softball/BAF Sports/J&S Design vs. [D2] Paradise Painting/Allstate Carburetor/Roebell
END:VEVENT
BEGIN:VEVENT
DTSTART:20220611T140000
DTEND:20220611T153000
SUMMARY:[D3] Roofmasters vs. [D2] Paradise Painting/Allstate Carburetor/Roebell
DESCRIPTION:50 AAA - National - International Senior Softball Association<br>ISSA
LOCATION:RBC 2
CATEGORIES:QuickScores; Softball Game
TRANSP:0
DALARM:20220611T120000;PT10M;2;[D3] Roofmasters vs. [D2] Paradise Painting/Allstate Carburetor/Roebell
END:VEVENT
BEGIN:VEVENT
DTSTART:20220611T170000
DTEND:20220611T183000
SUMMARY:[D2] Paradise Painting/Allstate Carburetor/Roebell vs. [C2] Rampage Softball
DESCRIPTION:50 AAA - National - International Senior Softball Association<br>ISSA
LOCATION:RBC 1
CATEGORIES:QuickScores; Softball Game
TRANSP:0
DALARM:20220611T150000;PT10M;2;[D2] Paradise Painting/Allstate Carburetor/Roebell vs. [C2] Rampage Softball
END:VEVENT
BEGIN:VEVENT
DTSTART:20220611T183000
DTEND:20220611T200000
SUMMARY:[B3] United Softball vs. [D2] Paradise Painting/Allstate Carburetor/Roebell
DESCRIPTION:50 AAA - National - International Senior Softball Association<br>ISSA
LOCATION:RBC 1
CATEGORIES:QuickScores; Softball Game
TRANSP:0
DALARM:20220611T163000;PT10M;2;[B3] United Softball vs. [D2] Paradise Painting/Allstate Carburetor/Roebell
END:VEVENT
END:VCALENDAR
