BEGIN:VCALENDAR
VERSION:1.0
BEGIN:VEVENT
DTSTART:20220610T103000
DTEND:20220610T120000
SUMMARY:Beaty Chevrolet/OSM vs. 22 Softball/DL/Hudson/Jeff Schmitt
DESCRIPTION:50 AAA - American - International Senior Softball Association<br>ISSA
LOCATION:LMP 3
CATEGORIES:QuickScores; Softball Game
TRANSP:0
DALARM:20220610T083000;PT10M;2;Beaty Chevrolet/OSM vs. 22 Softball/DL/Hudson/Jeff Schmitt
END:VEVENT
BEGIN:VEVENT
DTSTART:20220610T133000
DTEND:20220610T150000
SUMMARY:Area 51 50s vs. Beaty Chevrolet/OSM
DESCRIPTION:50 AAA - American - International Senior Softball Association<br>ISSA
LOCATION:LMP 3
CATEGORIES:QuickScores; Softball Game
TRANSP:0
DALARM:20220610T113000;PT10M;2;Area 51 50s vs. Beaty Chevrolet/OSM
END:VEVENT
BEGIN:VEVENT
DTSTART:20220610T183000
DTEND:20220610T200000
SUMMARY:[B2] 615/D1 Sports vs. [C3] Beaty Chevrolet
DESCRIPTION:50 AAA - American - International Senior Softball Association<br>ISSA
LOCATION:LMP 2
CATEGORIES:QuickScores; Softball Game
TRANSP:0
DALARM:20220610T163000;PT10M;2;[B2] 615/D1 Sports vs. [C3] Beaty Chevrolet
END:VEVENT
BEGIN:VEVENT
DTSTART:20220611T093000
DTEND:20220611T110000
SUMMARY:[A4] Central Florida Vipers vs. [C3] Beaty Chevrolet
DESCRIPTION:50 AAA - American - International Senior Softball Association<br>ISSA
LOCATION:LMP 4
CATEGORIES:QuickScores; Softball Game
TRANSP:0
DALARM:20220611T073000;PT10M;2;[A4] Central Florida Vipers vs. [C3] Beaty Chevrolet
END:VEVENT
END:VCALENDAR
