BEGIN:VCALENDAR
VERSION:1.0
BEGIN:VEVENT
DTSTART:20220610T090000
DTEND:20220610T103000
SUMMARY:Arooga's  MVP/Savory Senior Softball vs. ChiTown Assault
DESCRIPTION:50 AAA - American - International Senior Softball Association<br>ISSA
LOCATION:LMP 4
CATEGORIES:QuickScores; Softball Game
TRANSP:0
DALARM:20220610T070000;PT10M;2;Arooga's  MVP/Savory Senior Softball vs. ChiTown Assault
END:VEVENT
BEGIN:VEVENT
DTSTART:20220610T120000
DTEND:20220610T133000
SUMMARY:Big Hurt Softball/Maximum Precast 50 vs. Arooga's  MVP/Savory Senior Softball
DESCRIPTION:50 AAA - American - International Senior Softball Association<br>ISSA
LOCATION:LMP 2
CATEGORIES:QuickScores; Softball Game
TRANSP:0
DALARM:20220610T100000;PT10M;2;Big Hurt Softball/Maximum Precast 50 vs. Arooga's  MVP/Savory Senior Softball
END:VEVENT
BEGIN:VEVENT
DTSTART:20220610T183000
DTEND:20220610T200000
SUMMARY:[A2] Aroogas vs. [D3] Alpha Dogs/Dayton Legends
DESCRIPTION:50 AAA - American - International Senior Softball Association<br>ISSA
LOCATION:LMP 4
CATEGORIES:QuickScores; Softball Game
TRANSP:0
DALARM:20220610T163000;PT10M;2;[A2] Aroogas vs. [D3] Alpha Dogs/Dayton Legends
END:VEVENT
BEGIN:VEVENT
DTSTART:20220611T093000
DTEND:20220611T110000
SUMMARY:[B4] Dayton Legends/High Octane vs. [A2] Aroogas
DESCRIPTION:50 AAA - American - International Senior Softball Association<br>ISSA
LOCATION:LMP 3
CATEGORIES:QuickScores; Softball Game
TRANSP:0
DALARM:20220611T073000;PT10M;2;[B4] Dayton Legends/High Octane vs. [A2] Aroogas
END:VEVENT
BEGIN:VEVENT
DTSTART:20220611T110000
DTEND:20220611T123000
SUMMARY:[A2] Aroogas vs. [B3] FFE 50's
DESCRIPTION:50 AAA - American - International Senior Softball Association<br>ISSA
LOCATION:LMP 3
CATEGORIES:QuickScores; Softball Game
TRANSP:0
DALARM:20220611T090000;PT10M;2;[A2] Aroogas vs. [B3] FFE 50's
END:VEVENT
BEGIN:VEVENT
DTSTART:20220611T153000
DTEND:20220611T170000
SUMMARY:[A2] Aroogas vs. [B1] Daytona Beach Boyz
DESCRIPTION:50 AAA - American - International Senior Softball Association<br>ISSA
LOCATION:LMP 2
CATEGORIES:QuickScores; Softball Game
TRANSP:0
DALARM:20220611T133000;PT10M;2;[A2] Aroogas vs. [B1] Daytona Beach Boyz
END:VEVENT
BEGIN:VEVENT
DTSTART:20220611T170000
DTEND:20220611T183000
SUMMARY:[B2] 615/D1 Sports vs. [A2] Aroogas
DESCRIPTION:50 AAA - American - International Senior Softball Association<br>ISSA
LOCATION:LMP 2
CATEGORIES:QuickScores; Softball Game
TRANSP:0
DALARM:20220611T150000;PT10M;2;[B2] 615/D1 Sports vs. [A2] Aroogas
END:VEVENT
BEGIN:VEVENT
DTSTART:20220611T183000
DTEND:20220611T200000
SUMMARY:[A2] Aroogas vs. [D2] Crawford Contracting
DESCRIPTION:50 AAA - American - International Senior Softball Association<br>ISSA
LOCATION:LMP 2
CATEGORIES:QuickScores; Softball Game
TRANSP:0
DALARM:20220611T163000;PT10M;2;[A2] Aroogas vs. [D2] Crawford Contracting
END:VEVENT
END:VCALENDAR
