BEGIN:VCALENDAR
VERSION:1.0
BEGIN:VEVENT
DTSTART:20220610T103000
DTEND:20220610T120000
SUMMARY:Beaty Chevrolet/OSM vs. 22 Softball/DL/Hudson/Jeff Schmitt
DESCRIPTION:50 AAA - American - International Senior Softball Association<br>ISSA
LOCATION:LMP 3
CATEGORIES:QuickScores; Softball Game
TRANSP:0
DALARM:20220610T083000;PT10M;2;Beaty Chevrolet/OSM vs. 22 Softball/DL/Hudson/Jeff Schmitt
END:VEVENT
BEGIN:VEVENT
DTSTART:20220610T120000
DTEND:20220610T133000
SUMMARY:22 Softball/DL/Hudson/Jeff Schmitt vs. Area 51 50s
DESCRIPTION:50 AAA - American - International Senior Softball Association<br>ISSA
LOCATION:LMP 3
CATEGORIES:QuickScores; Softball Game
TRANSP:0
DALARM:20220610T100000;PT10M;2;22 Softball/DL/Hudson/Jeff Schmitt vs. Area 51 50s
END:VEVENT
BEGIN:VEVENT
DTSTART:20220610T170000
DTEND:20220610T183000
SUMMARY:[C2] 22 Softball/DL/Hudson/Jeff Schmitt vs. [B3] FFE 50's
DESCRIPTION:50 AAA - American - International Senior Softball Association<br>ISSA
LOCATION:LMP 4
CATEGORIES:QuickScores; Softball Game
TRANSP:0
DALARM:20220610T150000;PT10M;2;[C2] 22 Softball/DL/Hudson/Jeff Schmitt vs. [B3] FFE 50's
END:VEVENT
BEGIN:VEVENT
DTSTART:20220611T080000
DTEND:20220611T093000
SUMMARY:[A1] Big Hurt Softball/Maximum Precast 50 vs. [C2] 22 Softball/DL/Hudson/Jeff Schmitt
DESCRIPTION:50 AAA - American - International Senior Softball Association<br>ISSA
LOCATION:LMP 3
CATEGORIES:QuickScores; Softball Game
TRANSP:0
DALARM:20220611T060000;PT10M;2;[A1] Big Hurt Softball/Maximum Precast 50 vs. [C2] 22 Softball/DL/Hudson/Jeff Schmitt
END:VEVENT
BEGIN:VEVENT
DTSTART:20220611T123000
DTEND:20220611T140000
SUMMARY:[C2] 22 Softball/DL/Hudson/Jeff Schmitt vs. [D3] Alpha Dogs/Dayton Legends
DESCRIPTION:50 AAA - American - International Senior Softball Association<br>ISSA
LOCATION:LMP 4
CATEGORIES:QuickScores; Softball Game
TRANSP:0
DALARM:20220611T103000;PT10M;2;[C2] 22 Softball/DL/Hudson/Jeff Schmitt vs. [D3] Alpha Dogs/Dayton Legends
END:VEVENT
BEGIN:VEVENT
DTSTART:20220611T153000
DTEND:20220611T170000
SUMMARY:[D1] DRT Transportation vs. [C2] 22 Softball/DL/Hudson/Jeff Schmitt
DESCRIPTION:50 AAA - American - International Senior Softball Association<br>ISSA
LOCATION:LMP 3
CATEGORIES:QuickScores; Softball Game
TRANSP:0
DALARM:20220611T133000;PT10M;2;[D1] DRT Transportation vs. [C2] 22 Softball/DL/Hudson/Jeff Schmitt
END:VEVENT
END:VCALENDAR
