BEGIN:VCALENDAR
VERSION:1.0
BEGIN:VEVENT
DTSTART:20220603T103000
DTEND:20220603T120000
SUMMARY:INFOQUEST.COM vs. Texas Rush 55
DESCRIPTION:Men 55 AAA - International Senior Softball Association<br>ISSA
LOCATION:LMP 4
CATEGORIES:QuickScores; Softball Game
TRANSP:0
DALARM:20220603T083000;PT10M;2;INFOQUEST.COM vs. Texas Rush 55
END:VEVENT
BEGIN:VEVENT
DTSTART:20220603T120000
DTEND:20220603T133000
SUMMARY:Texas Rush 55 vs. Motor City Push
DESCRIPTION:Men 55 AAA - International Senior Softball Association<br>ISSA
LOCATION:LMP 4
CATEGORIES:QuickScores; Softball Game
TRANSP:0
DALARM:20220603T100000;PT10M;2;Texas Rush 55 vs. Motor City Push
END:VEVENT
BEGIN:VEVENT
DTSTART:20220604T080000
DTEND:20220604T093000
SUMMARY:[D2] Texas Rush 55 vs. [A2] Extra Innings Softball
DESCRIPTION:Men 55 AAA - International Senior Softball Association<br>ISSA
LOCATION:LMP 4
CATEGORIES:QuickScores; Softball Game
TRANSP:0
DALARM:20220604T060000;PT10M;2;[D2] Texas Rush 55 vs. [A2] Extra Innings Softball
END:VEVENT
BEGIN:VEVENT
DTSTART:20220604T123000
DTEND:20220604T140000
SUMMARY:[C3] OHIO HITMEN 55 vs. [D2] Texas Rush 55
DESCRIPTION:Men 55 AAA - International Senior Softball Association<br>ISSA
LOCATION:LMP 4
CATEGORIES:QuickScores; Softball Game
TRANSP:0
DALARM:20220604T103000;PT10M;2;[C3] OHIO HITMEN 55 vs. [D2] Texas Rush 55
END:VEVENT
END:VCALENDAR
