BEGIN:VCALENDAR
VERSION:1.0
BEGIN:VEVENT
DTSTART:20220603T103000
DTEND:20220603T120000
SUMMARY:Derby City Masters vs. High Street 55's
DESCRIPTION:Men 55 AAA - International Senior Softball Association<br>ISSA
LOCATION:LMP 2
CATEGORIES:QuickScores; Softball Game
TRANSP:0
DALARM:20220603T083000;PT10M;2;Derby City Masters vs. High Street 55's
END:VEVENT
BEGIN:VEVENT
DTSTART:20220603T133000
DTEND:20220603T150000
SUMMARY:High Street 55's vs. Crawfords 55
DESCRIPTION:Men 55 AAA - International Senior Softball Association<br>ISSA
LOCATION:LMP 2
CATEGORIES:QuickScores; Softball Game
TRANSP:0
DALARM:20220603T113000;PT10M;2;High Street 55's vs. Crawfords 55
END:VEVENT
BEGIN:VEVENT
DTSTART:20220604T093000
DTEND:20220604T110000
SUMMARY:[A1] High Street 55's vs. [C2] United Printers
DESCRIPTION:Men 55 AAA - International Senior Softball Association<br>ISSA
LOCATION:LMP 2
CATEGORIES:QuickScores; Softball Game
TRANSP:0
DALARM:20220604T073000;PT10M;2;[A1] High Street 55's vs. [C2] United Printers
END:VEVENT
BEGIN:VEVENT
DTSTART:20220604T140000
DTEND:20220604T153000
SUMMARY:[A1] High Street 55's vs. [D1] INFOQUEST.COM
DESCRIPTION:Men 55 AAA - International Senior Softball Association<br>ISSA
LOCATION:LMP 3
CATEGORIES:QuickScores; Softball Game
TRANSP:0
DALARM:20220604T120000;PT10M;2;[A1] High Street 55's vs. [D1] INFOQUEST.COM
END:VEVENT
BEGIN:VEVENT
DTSTART:20220604T153000
DTEND:20220604T170000
SUMMARY:[A1] High Street 55's vs. [B1] Holy City Hitmen 55
DESCRIPTION:Men 55 AAA - International Senior Softball Association<br>ISSA
LOCATION:LMP 2
CATEGORIES:QuickScores; Softball Game
TRANSP:0
DALARM:20220604T133000;PT10M;2;[A1] High Street 55's vs. [B1] Holy City Hitmen 55
END:VEVENT
BEGIN:VEVENT
DTSTART:20220605T110000
DTEND:20220605T123000
SUMMARY:[A1] High Street 55's vs. [C2] United Printers
DESCRIPTION:Men 55 AAA - International Senior Softball Association<br>ISSA
LOCATION:LMP 2
CATEGORIES:QuickScores; Softball Game
TRANSP:0
DALARM:20220605T090000;PT10M;2;[A1] High Street 55's vs. [C2] United Printers
END:VEVENT
BEGIN:VEVENT
DTSTART:20220605T123000
DTEND:20220605T140000
SUMMARY:[B1] Holy City Hitmen 55 vs. [A1] High Street 55's
DESCRIPTION:Men 55 AAA - International Senior Softball Association<br>ISSA
LOCATION:LMP 2
CATEGORIES:QuickScores; Softball Game
TRANSP:0
DALARM:20220605T103000;PT10M;2;[B1] Holy City Hitmen 55 vs. [A1] High Street 55's
END:VEVENT
END:VCALENDAR
