BEGIN:VCALENDAR
VERSION:1.0
BEGIN:VEVENT
DTSTART:20220603T103000
DTEND:20220603T120000
SUMMARY:Derby City Masters vs. High Street 55's
DESCRIPTION:Men 55 AAA - International Senior Softball Association<br>ISSA
LOCATION:LMP 2
CATEGORIES:QuickScores; Softball Game
TRANSP:0
DALARM:20220603T083000;PT10M;2;Derby City Masters vs. High Street 55's
END:VEVENT
BEGIN:VEVENT
DTSTART:20220603T120000
DTEND:20220603T133000
SUMMARY:Extra Innings Softball vs. Derby City Masters
DESCRIPTION:Men 55 AAA - International Senior Softball Association<br>ISSA
LOCATION:LMP 2
CATEGORIES:QuickScores; Softball Game
TRANSP:0
DALARM:20220603T100000;PT10M;2;Extra Innings Softball vs. Derby City Masters
END:VEVENT
BEGIN:VEVENT
DTSTART:20220604T093000
DTEND:20220604T110000
SUMMARY:[D1] INFOQUEST.COM vs. [A4] Derby City Masters
DESCRIPTION:Men 55 AAA - International Senior Softball Association<br>ISSA
LOCATION:LMP 3
CATEGORIES:QuickScores; Softball Game
TRANSP:0
DALARM:20220604T073000;PT10M;2;[D1] INFOQUEST.COM vs. [A4] Derby City Masters
END:VEVENT
BEGIN:VEVENT
DTSTART:20220604T123000
DTEND:20220604T140000
SUMMARY:[A4] Derby City Masters vs. [B2] Detroit Pony Express
DESCRIPTION:Men 55 AAA - International Senior Softball Association<br>ISSA
LOCATION:LMP 2
CATEGORIES:QuickScores; Softball Game
TRANSP:0
DALARM:20220604T103000;PT10M;2;[A4] Derby City Masters vs. [B2] Detroit Pony Express
END:VEVENT
END:VCALENDAR
