BEGIN:VCALENDAR
VERSION:1.0
BEGIN:VEVENT
DTSTART:20220201T090000
DTEND:20220201T104500
SUMMARY:CC Medical Services vs. Knoxville Smokies
DESCRIPTION:Men 75 AAA - International Senior Softball Association<br>ISSA
LOCATION:RSC 5
CATEGORIES:QuickScores; Softball Game
TRANSP:0
DALARM:20220201T070000;PT10M;2;CC Medical Services vs. Knoxville Smokies
END:VEVENT
BEGIN:VEVENT
DTSTART:20220201T104500
DTEND:20220201T123000
SUMMARY:Knoxville Smokies vs. Northern Virginia Force 75s
DESCRIPTION:Men 75 AAA - International Senior Softball Association<br>ISSA
LOCATION:RSC 4
CATEGORIES:QuickScores; Softball Game
TRANSP:0
DALARM:20220201T084500;PT10M;2;Knoxville Smokies vs. Northern Virginia Force 75s
END:VEVENT
BEGIN:VEVENT
DTSTART:20220202T080000
DTEND:20220202T094500
SUMMARY:[B2] Spicer Properties vs. [A3] Knoxville Smokies
DESCRIPTION:Men 75 AAA - International Senior Softball Association<br>ISSA
LOCATION:RSC 3
CATEGORIES:QuickScores; Softball Game
TRANSP:0
DALARM:20220202T060000;PT10M;2;[B2] Spicer Properties vs. [A3] Knoxville Smokies
END:VEVENT
BEGIN:VEVENT
DTSTART:20220202T094500
DTEND:20220202T113000
SUMMARY:[A1] CC Medical Services vs. [A3] Knoxville Smokies
DESCRIPTION:Men 75 AAA - International Senior Softball Association<br>ISSA
LOCATION:RSC 3
CATEGORIES:QuickScores; Softball Game
TRANSP:0
DALARM:20220202T074500;PT10M;2;[A1] CC Medical Services vs. [A3] Knoxville Smokies
END:VEVENT
BEGIN:VEVENT
DTSTART:20220202T150000
DTEND:20220202T164500
SUMMARY:[A3] Knoxville Smokies vs. [A4] Northern Virginia Force 75s
DESCRIPTION:Men 75 AAA - International Senior Softball Association<br>ISSA
LOCATION:RSC 4
CATEGORIES:QuickScores; Softball Game
TRANSP:0
DALARM:20220202T130000;PT10M;2;[A3] Knoxville Smokies vs. [A4] Northern Virginia Force 75s
END:VEVENT
BEGIN:VEVENT
DTSTART:20220203T080000
DTEND:20220203T094500
SUMMARY:[B2] Spicer Properties vs. [A3] Knoxville Smokies
DESCRIPTION:Men 75 AAA - International Senior Softball Association<br>ISSA
LOCATION:RSC 1
CATEGORIES:QuickScores; Softball Game
TRANSP:0
DALARM:20220203T060000;PT10M;2;[B2] Spicer Properties vs. [A3] Knoxville Smokies
END:VEVENT
BEGIN:VEVENT
DTSTART:20220203T094500
DTEND:20220203T113000
SUMMARY:[A1] CC Medical Services vs. [A3] Knoxville Smokies
DESCRIPTION:Men 75 AAA - International Senior Softball Association<br>ISSA
LOCATION:RSC 1
CATEGORIES:QuickScores; Softball Game
TRANSP:0
DALARM:20220203T074500;PT10M;2;[A1] CC Medical Services vs. [A3] Knoxville Smokies
END:VEVENT
BEGIN:VEVENT
DTSTART:20220203T113000
DTEND:20220203T131500
SUMMARY:[A2] SENIOR MOMENTS vs. [A3] Knoxville Smokies
DESCRIPTION:Men 75 AAA - International Senior Softball Association<br>ISSA
LOCATION:RSC 1
CATEGORIES:QuickScores; Softball Game
TRANSP:0
DALARM:20220203T093000;PT10M;2;[A2] SENIOR MOMENTS vs. [A3] Knoxville Smokies
END:VEVENT
END:VCALENDAR
