BEGIN:VCALENDAR
VERSION:1.0
BEGIN:VEVENT
DTSTART:20260514T190000
DTEND:20260514T211500
SUMMARY:Bama Bash vs. Magic City Mavericks
DESCRIPTION:BMBL Summer 2026 - Hoover Parks and Recreation
LOCATION:Spain Park Field # 1
CATEGORIES:QuickScores; Baseball Game
TRANSP:0
DALARM:20260514T170000;PT10M;2;Bama Bash vs. Magic City Mavericks
END:VEVENT
BEGIN:VEVENT
DTSTART:20260519T190000
DTEND:20260519T211500
SUMMARY:Red Sox vs. Magic City Mavericks
DESCRIPTION:BMBL Summer 2026 - Hoover Parks and Recreation
LOCATION:Spain Park Field # 1
CATEGORIES:QuickScores; Baseball Game
TRANSP:0
DALARM:20260519T170000;PT10M;2;Red Sox vs. Magic City Mavericks
END:VEVENT
BEGIN:VEVENT
DTSTART:20260522T190000
DTEND:20260522T211500
SUMMARY:Black Sox vs. Magic City Mavericks
DESCRIPTION:BMBL Summer 2026 - Hoover Parks and Recreation
LOCATION:Spain Park Field # 2
CATEGORIES:QuickScores; Baseball Game
TRANSP:0
DALARM:20260522T170000;PT10M;2;Black Sox vs. Magic City Mavericks
END:VEVENT
BEGIN:VEVENT
DTSTART:20260531T153000
DTEND:20260531T174500
SUMMARY:Juggernauts vs. Magic City Mavericks
DESCRIPTION:BMBL Summer 2026 - Hoover Parks and Recreation
LOCATION:Spain Park Field # 2
CATEGORIES:QuickScores; Baseball Game
TRANSP:0
DALARM:20260531T133000;PT10M;2;Juggernauts vs. Magic City Mavericks
END:VEVENT
BEGIN:VEVENT
DTSTART:20260602T190000
DTEND:20260602T211500
SUMMARY:Magic City Mavericks vs. Cardinals
DESCRIPTION:BMBL Summer 2026 - Hoover Parks and Recreation
LOCATION:Spain Park Field # 2
CATEGORIES:QuickScores; Baseball Game
TRANSP:0
DALARM:20260602T170000;PT10M;2;Magic City Mavericks vs. Cardinals
END:VEVENT
BEGIN:VEVENT
DTSTART:20260607T130000
DTEND:20260607T151500
SUMMARY:Magic City Mavericks vs. Black Sox
DESCRIPTION:BMBL Summer 2026 - Hoover Parks and Recreation
LOCATION:Spain Park Field # 1
CATEGORIES:QuickScores; Baseball Game
TRANSP:0
DALARM:20260607T110000;PT10M;2;Magic City Mavericks vs. Black Sox
END:VEVENT
BEGIN:VEVENT
DTSTART:20260608T190000
DTEND:20260608T211500
SUMMARY:Magic City Mavericks vs. Juggernauts
DESCRIPTION:BMBL Summer 2026 - Hoover Parks and Recreation
LOCATION:Spain Park Field # 2
CATEGORIES:QuickScores; Baseball Game
TRANSP:0
DALARM:20260608T170000;PT10M;2;Magic City Mavericks vs. Juggernauts
END:VEVENT
BEGIN:VEVENT
DTSTART:20260614T153000
DTEND:20260614T174500
SUMMARY:Cardinals vs. Magic City Mavericks
DESCRIPTION:BMBL Summer 2026 - Hoover Parks and Recreation
LOCATION:Spain Park Field # 2
CATEGORIES:QuickScores; Baseball Game
TRANSP:0
DALARM:20260614T133000;PT10M;2;Cardinals vs. Magic City Mavericks
END:VEVENT
BEGIN:VEVENT
DTSTART:20260616T190000
DTEND:20260616T211500
SUMMARY:Birmingham Billies vs. Magic City Mavericks
DESCRIPTION:BMBL Summer 2026 - Hoover Parks and Recreation
LOCATION:Spain Park Field # 1
CATEGORIES:QuickScores; Baseball Game
TRANSP:0
DALARM:20260616T170000;PT10M;2;Birmingham Billies vs. Magic City Mavericks
END:VEVENT
BEGIN:VEVENT
DTSTART:20260619T190000
DTEND:20260619T211500
SUMMARY:Magic City Mavericks vs. Bama Bash
DESCRIPTION:BMBL Summer 2026 - Hoover Parks and Recreation
LOCATION:Spain Park Field # 1
CATEGORIES:QuickScores; Baseball Game
TRANSP:0
DALARM:20260619T170000;PT10M;2;Magic City Mavericks vs. Bama Bash
END:VEVENT
BEGIN:VEVENT
DTSTART:20260622T190000
DTEND:20260622T211500
SUMMARY:Magic City Mavericks vs. Red Sox
DESCRIPTION:BMBL Summer 2026 - Hoover Parks and Recreation
LOCATION:Spain Park Field # 2
CATEGORIES:QuickScores; Baseball Game
TRANSP:0
DALARM:20260622T170000;PT10M;2;Magic City Mavericks vs. Red Sox
END:VEVENT
BEGIN:VEVENT
DTSTART:20260629T190000
DTEND:20260629T200000
SUMMARY:Birmingham Giants vs. Magic City Mavericks
DESCRIPTION:BMBL Summer 2026 - Hoover Parks and Recreation
LOCATION:Spain Park Field # 2
CATEGORIES:QuickScores; Baseball Game
TRANSP:0
DALARM:20260629T170000;PT10M;2;Birmingham Giants vs. Magic City Mavericks
END:VEVENT
BEGIN:VEVENT
DTSTART:20260709T190000
DTEND:20260709T211500
SUMMARY:Shockers vs. Magic City Mavericks
DESCRIPTION:BMBL Summer 2026 - Hoover Parks and Recreation
LOCATION:Spain Park Field # 1
CATEGORIES:QuickScores; Baseball Game
TRANSP:0
DALARM:20260709T170000;PT10M;2;Shockers vs. Magic City Mavericks
END:VEVENT
BEGIN:VEVENT
DTSTART:20260712T153000
DTEND:20260712T174500
SUMMARY:Magic City Mavericks vs. Shockers
DESCRIPTION:BMBL Summer 2026 - Hoover Parks and Recreation
LOCATION:Spain Park Field # 1
CATEGORIES:QuickScores; Baseball Game
TRANSP:0
DALARM:20260712T133000;PT10M;2;Magic City Mavericks vs. Shockers
END:VEVENT
BEGIN:VEVENT
DTSTART:20260719T153000
DTEND:20260719T174500
SUMMARY:Twins vs. Magic City Mavericks
DESCRIPTION:BMBL Summer 2026 - Hoover Parks and Recreation
LOCATION:Spain Park Field # 2
CATEGORIES:QuickScores; Baseball Game
TRANSP:0
DALARM:20260719T133000;PT10M;2;Twins vs. Magic City Mavericks
END:VEVENT
BEGIN:VEVENT
DTSTART:20260720T190000
DTEND:20260720T211500
SUMMARY:Magic City Mavericks vs. Twins
DESCRIPTION:BMBL Summer 2026 - Hoover Parks and Recreation
LOCATION:Spain Park Field # 1
CATEGORIES:QuickScores; Baseball Game
TRANSP:0
DALARM:20260720T170000;PT10M;2;Magic City Mavericks vs. Twins
END:VEVENT
BEGIN:VEVENT
DTSTART:20260721T190000
DTEND:20260721T211500
SUMMARY:Magic City Mavericks vs. Birmingham Giants
DESCRIPTION:BMBL Summer 2026 - Hoover Parks and Recreation
LOCATION:Spain Park Field # 2
CATEGORIES:QuickScores; Baseball Game
TRANSP:0
DALARM:20260721T170000;PT10M;2;Magic City Mavericks vs. Birmingham Giants
END:VEVENT
BEGIN:VEVENT
DTSTART:20260726T130000
DTEND:20260726T151500
SUMMARY:Magic City Mavericks vs. Birmingham Billies
DESCRIPTION:BMBL Summer 2026 - Hoover Parks and Recreation
LOCATION:Spain Park Field # 1
CATEGORIES:QuickScores; Baseball Game
TRANSP:0
DALARM:20260726T110000;PT10M;2;Magic City Mavericks vs. Birmingham Billies
END:VEVENT
END:VCALENDAR
