BEGIN:VCALENDAR
VERSION:1.0
BEGIN:VEVENT
DTSTART:20260515T190000
DTEND:20260515T211500
SUMMARY:Black Sox vs. Shockers
DESCRIPTION:BMBL Summer 2026 - Hoover Parks and Recreation
LOCATION:Spain Park Field # 1
CATEGORIES:QuickScores; Baseball Game
TRANSP:0
DALARM:20260515T170000;PT10M;2;Black Sox vs. Shockers
END:VEVENT
BEGIN:VEVENT
DTSTART:20260519T190000
DTEND:20260519T211500
SUMMARY:Shockers vs. Cardinals
DESCRIPTION:BMBL Summer 2026 - Hoover Parks and Recreation
LOCATION:Spain Park Field # 2
CATEGORIES:QuickScores; Baseball Game
TRANSP:0
DALARM:20260519T170000;PT10M;2;Shockers vs. Cardinals
END:VEVENT
BEGIN:VEVENT
DTSTART:20260528T190000
DTEND:20260528T211500
SUMMARY:Shockers vs. Twins
DESCRIPTION:BMBL Summer 2026 - Hoover Parks and Recreation
LOCATION:Spain Park Field # 2
CATEGORIES:QuickScores; Baseball Game
TRANSP:0
DALARM:20260528T170000;PT10M;2;Shockers vs. Twins
END:VEVENT
BEGIN:VEVENT
DTSTART:20260531T130000
DTEND:20260531T151500
SUMMARY:Red Sox vs. Shockers
DESCRIPTION:BMBL Summer 2026 - Hoover Parks and Recreation
LOCATION:Spain Park Field # 1
CATEGORIES:QuickScores; Baseball Game
TRANSP:0
DALARM:20260531T110000;PT10M;2;Red Sox vs. Shockers
END:VEVENT
BEGIN:VEVENT
DTSTART:20260601T190000
DTEND:20260601T211500
SUMMARY:Birmingham Billies vs. Shockers
DESCRIPTION:BMBL Summer 2026 - Hoover Parks and Recreation
LOCATION:Spain Park Field # 2
CATEGORIES:QuickScores; Baseball Game
TRANSP:0
DALARM:20260601T170000;PT10M;2;Birmingham Billies vs. Shockers
END:VEVENT
BEGIN:VEVENT
DTSTART:20260604T190000
DTEND:20260604T211500
SUMMARY:Shockers vs. Bama Bash
DESCRIPTION:BMBL Summer 2026 - Hoover Parks and Recreation
LOCATION:Spain Park Field # 2
CATEGORIES:QuickScores; Baseball Game
TRANSP:0
DALARM:20260604T170000;PT10M;2;Shockers vs. Bama Bash
END:VEVENT
BEGIN:VEVENT
DTSTART:20260607T153000
DTEND:20260607T174500
SUMMARY:Shockers vs. Red Sox
DESCRIPTION:BMBL Summer 2026 - Hoover Parks and Recreation
LOCATION:Spain Park Field # 2
CATEGORIES:QuickScores; Baseball Game
TRANSP:0
DALARM:20260607T133000;PT10M;2;Shockers vs. Red Sox
END:VEVENT
BEGIN:VEVENT
DTSTART:20260611T190000
DTEND:20260611T211500
SUMMARY:Shockers vs. Birmingham Billies
DESCRIPTION:BMBL Summer 2026 - Hoover Parks and Recreation
LOCATION:Spain Park Field # 1
CATEGORIES:QuickScores; Baseball Game
TRANSP:0
DALARM:20260611T170000;PT10M;2;Shockers vs. Birmingham Billies
END:VEVENT
BEGIN:VEVENT
DTSTART:20260614T130000
DTEND:20260614T151500
SUMMARY:Shockers vs. YOG Select
DESCRIPTION:BMBL Summer 2026 - Hoover Parks and Recreation
LOCATION:Hoover East Turf Field # 7
CATEGORIES:QuickScores; Baseball Game
TRANSP:0
DALARM:20260614T110000;PT10M;2;Shockers vs. YOG Select
END:VEVENT
BEGIN:VEVENT
DTSTART:20260615T190000
DTEND:20260615T211500
SUMMARY:Bama Bash vs. Shockers
DESCRIPTION:BMBL Summer 2026 - Hoover Parks and Recreation
LOCATION:Spain Park Field # 2
CATEGORIES:QuickScores; Baseball Game
TRANSP:0
DALARM:20260615T170000;PT10M;2;Bama Bash vs. Shockers
END:VEVENT
BEGIN:VEVENT
DTSTART:20260619T190000
DTEND:20260619T200000
SUMMARY:YOG Select vs. Shockers
DESCRIPTION:BMBL Summer 2026 - Hoover Parks and Recreation
LOCATION:Spain Park Field # 2
CATEGORIES:QuickScores; Baseball Game
TRANSP:0
DALARM:20260619T170000;PT10M;2;YOG Select vs. Shockers
END:VEVENT
BEGIN:VEVENT
DTSTART:20260623T190000
DTEND:20260623T211500
SUMMARY:Cardinals vs. Shockers
DESCRIPTION:BMBL Summer 2026 - Hoover Parks and Recreation
LOCATION:Spain Park Field # 2
CATEGORIES:QuickScores; Baseball Game
TRANSP:0
DALARM:20260623T170000;PT10M;2;Cardinals vs. Shockers
END:VEVENT
BEGIN:VEVENT
DTSTART:20260630T190000
DTEND:20260630T211500
SUMMARY:Juggernauts vs. Shockers
DESCRIPTION:BMBL Summer 2026 - Hoover Parks and Recreation
LOCATION:Spain Park Field # 1
CATEGORIES:QuickScores; Baseball Game
TRANSP:0
DALARM:20260630T170000;PT10M;2;Juggernauts vs. Shockers
END:VEVENT
BEGIN:VEVENT
DTSTART:20260709T190000
DTEND:20260709T211500
SUMMARY:Shockers vs. Magic City Mavericks
DESCRIPTION:BMBL Summer 2026 - Hoover Parks and Recreation
LOCATION:Spain Park Field # 1
CATEGORIES:QuickScores; Baseball Game
TRANSP:0
DALARM:20260709T170000;PT10M;2;Shockers vs. Magic City Mavericks
END:VEVENT
BEGIN:VEVENT
DTSTART:20260712T153000
DTEND:20260712T174500
SUMMARY:Magic City Mavericks vs. Shockers
DESCRIPTION:BMBL Summer 2026 - Hoover Parks and Recreation
LOCATION:Spain Park Field # 1
CATEGORIES:QuickScores; Baseball Game
TRANSP:0
DALARM:20260712T133000;PT10M;2;Magic City Mavericks vs. Shockers
END:VEVENT
BEGIN:VEVENT
DTSTART:20260714T190000
DTEND:20260714T211500
SUMMARY:Twins vs. Shockers
DESCRIPTION:BMBL Summer 2026 - Hoover Parks and Recreation
LOCATION:Spain Park Field # 1
CATEGORIES:QuickScores; Baseball Game
TRANSP:0
DALARM:20260714T170000;PT10M;2;Twins vs. Shockers
END:VEVENT
BEGIN:VEVENT
DTSTART:20260719T153000
DTEND:20260719T174500
SUMMARY:Shockers vs. Black Sox
DESCRIPTION:BMBL Summer 2026 - Hoover Parks and Recreation
LOCATION:Spain Park Field # 1
CATEGORIES:QuickScores; Baseball Game
TRANSP:0
DALARM:20260719T133000;PT10M;2;Shockers vs. Black Sox
END:VEVENT
BEGIN:VEVENT
DTSTART:20260726T153000
DTEND:20260726T174500
SUMMARY:Shockers vs. Juggernauts
DESCRIPTION:BMBL Summer 2026 - Hoover Parks and Recreation
LOCATION:Spain Park Field # 1
CATEGORIES:QuickScores; Baseball Game
TRANSP:0
DALARM:20260726T133000;PT10M;2;Shockers vs. Juggernauts
END:VEVENT
END:VCALENDAR
